BEGIN:VCALENDAR
VERSION:2.0
PRODID:-//El Programa Hispano Católico - ECPv6.15.20//NONSGML v1.0//EN
CALSCALE:GREGORIAN
METHOD:PUBLISH
X-ORIGINAL-URL:https://elprograma.org/es/
X-WR-CALDESC:Eventos para El Programa Hispano Católico
REFRESH-INTERVAL;VALUE=DURATION:PT1H
X-Robots-Tag:noindex
X-PUBLISHED-TTL:PT1H
BEGIN:VTIMEZONE
TZID:America/Los_Angeles
BEGIN:DAYLIGHT
TZOFFSETFROM:-0800
TZOFFSETTO:-0700
TZNAME:PDT
DTSTART:20230312T100000
END:DAYLIGHT
BEGIN:STANDARD
TZOFFSETFROM:-0700
TZOFFSETTO:-0800
TZNAME:PST
DTSTART:20231105T090000
END:STANDARD
BEGIN:DAYLIGHT
TZOFFSETFROM:-0800
TZOFFSETTO:-0700
TZNAME:PDT
DTSTART:20240310T100000
END:DAYLIGHT
BEGIN:STANDARD
TZOFFSETFROM:-0700
TZOFFSETTO:-0800
TZNAME:PST
DTSTART:20241103T090000
END:STANDARD
BEGIN:DAYLIGHT
TZOFFSETFROM:-0800
TZOFFSETTO:-0700
TZNAME:PDT
DTSTART:20250309T100000
END:DAYLIGHT
BEGIN:STANDARD
TZOFFSETFROM:-0700
TZOFFSETTO:-0800
TZNAME:PST
DTSTART:20251102T090000
END:STANDARD
END:VTIMEZONE
BEGIN:VEVENT
DTSTART;TZID=America/Los_Angeles:20241107T160000
DTEND;TZID=America/Los_Angeles:20241107T173000
DTSTAMP:20260425T093321
CREATED:20240725T194831Z
LAST-MODIFIED:20240726T002656Z
UID:10000181-1730995200-1731000600@elprograma.org
SUMMARY:Mercado de Comida Gratuito en la Escuela Primaria Highland
DESCRIPTION:Visite nuestro mercado de alimentos gratuito en la escuela primaria Highland la segunda semana de cada mes para acceder a frutas y verduras frescas\, saludables y gratuitas.\nalgunos productos básicos de despensa para ti y tu familia. \nComprar en nuestro Mercado Libre de Alimentos es sencillo:\n• Esta comida es gratis y todos son bienvenidos.\n• No se necesita identificación\, nombre o dirección\n• Por favor traiga bolsas o cajas. \n¿Tiene preguntas? Llame o envié mensaje de texto a Kaleb Meiers al (503) 405-5100 \nOrgullosamente Apoyado por:\n \n 
URL:https://elprograma.org/es/event/highland-free-food-market/2024-11-07/
LOCATION:Highland Elementary School\, 295 NE 24th St\, Gresham\, 97030\, United States
CATEGORIES:Eventos comunitarios
ATTACH;FMTTYPE=image/png:https://elprograma.org/wp-content/uploads/2024/07/Highland-SPA.png
END:VEVENT
BEGIN:VEVENT
DTSTART;TZID=America/Los_Angeles:20241107T160000
DTEND;TZID=America/Los_Angeles:20241107T173000
DTSTAMP:20260425T093321
CREATED:20240725T200516Z
LAST-MODIFIED:20240729T174937Z
UID:10000206-1730995200-1731000600@elprograma.org
SUMMARY:Mercado gratuito de alimentos de la escuela primaria de Wilkes
DESCRIPTION:Visite nuestro Mercado de Alimentos Gratuitos en la Escuela Primaria de Wilkes el primer jueves de cada mes para acceder gratuitamente a frutas y verduras frescas y saludables y a algunos alimentos básicos de despensa para usted y tu familia. \nComprar en nuestro Mercado de Alimentos Gratuitos es sencillo: \n\nEsta comida es gratis y todo el mundo es bienvenido\nNo se necesita identificación\, nombre ni dirección\nPor favor\, trae bolsas o cajas\n\n¿Tiene preguntas? Llame o envíe un mensaje a Giovanni Barranco al (971) 220-0930 \nCon el apoyo de:
URL:https://elprograma.org/es/event/mercado-gratuito-de-alimentos-de-la-escuela-primaria-de-wilkes/2024-11-07/
LOCATION:Wilkes Elementary School\, 17020 NE Wilkes Rd\, Portland\, OR\, 97230\, United States
CATEGORIES:Eventos comunitarios
ATTACH;FMTTYPE=image/png:https://elprograma.org/wp-content/uploads/2024/07/Wilkes-SPA.png
END:VEVENT
END:VCALENDAR