BEGIN:VCALENDAR
VERSION:2.0
PRODID:-//El Programa Hispano Católico - ECPv6.15.20//NONSGML v1.0//EN
CALSCALE:GREGORIAN
METHOD:PUBLISH
X-WR-CALNAME:El Programa Hispano Católico
X-ORIGINAL-URL:https://elprograma.org/es/
X-WR-CALDESC:Eventos para El Programa Hispano Católico
REFRESH-INTERVAL;VALUE=DURATION:PT1H
X-Robots-Tag:noindex
X-PUBLISHED-TTL:PT1H
BEGIN:VTIMEZONE
TZID:America/Los_Angeles
BEGIN:DAYLIGHT
TZOFFSETFROM:-0800
TZOFFSETTO:-0700
TZNAME:PDT
DTSTART:20230312T100000
END:DAYLIGHT
BEGIN:STANDARD
TZOFFSETFROM:-0700
TZOFFSETTO:-0800
TZNAME:PST
DTSTART:20231105T090000
END:STANDARD
BEGIN:DAYLIGHT
TZOFFSETFROM:-0800
TZOFFSETTO:-0700
TZNAME:PDT
DTSTART:20240310T100000
END:DAYLIGHT
BEGIN:STANDARD
TZOFFSETFROM:-0700
TZOFFSETTO:-0800
TZNAME:PST
DTSTART:20241103T090000
END:STANDARD
BEGIN:DAYLIGHT
TZOFFSETFROM:-0800
TZOFFSETTO:-0700
TZNAME:PDT
DTSTART:20250309T100000
END:DAYLIGHT
BEGIN:STANDARD
TZOFFSETFROM:-0700
TZOFFSETTO:-0800
TZNAME:PST
DTSTART:20251102T090000
END:STANDARD
BEGIN:DAYLIGHT
TZOFFSETFROM:-0800
TZOFFSETTO:-0700
TZNAME:PDT
DTSTART:20260308T100000
END:DAYLIGHT
BEGIN:STANDARD
TZOFFSETFROM:-0700
TZOFFSETTO:-0800
TZNAME:PST
DTSTART:20261101T090000
END:STANDARD
END:VTIMEZONE
BEGIN:VEVENT
DTSTART;VALUE=DATE:20241223
DTEND;VALUE=DATE:20250104
DTSTAMP:20260424T011814
CREATED:20241217T235803Z
LAST-MODIFIED:20241217T235803Z
UID:10000260-1734912000-1735948799@elprograma.org
SUMMARY:El Programa Hispano estará CERRADO del 23 de diciembre del 2024 al 3 de enero del 2025
DESCRIPTION:El Programa Hispano estará CERRADO del 23 de diciembre del 2024 al 3 de enero del 2025\nNuestra oficina y servicios estarán CERRADOS desde el lunes 23 de diciembre del 2024 hasta el viernes 3 de enero del 2025 como días de bienestar para nuestro personal. Los servicios de UNICA seguirán siendo accesibles a través de la Línea UNICA (503) 232-4448 o 1(800) 232-4448. \nReabriremos nuestra oficina el lunes 6 de enero del 2025 de 8:30am a 5:00pm. ¡Gracias por tu comprensión y paciencia!  \n¡Felices Fiestas!
URL:https://elprograma.org/es/event/el-programa-hispano-estara-cerrado-del-23-de-diciembre-del-2024-al-3-de-enero-del-2025/
END:VEVENT
END:VCALENDAR