BEGIN:VCALENDAR
VERSION:2.0
PRODID:-//El Programa Hispano Católico - ECPv6.15.20//NONSGML v1.0//EN
CALSCALE:GREGORIAN
METHOD:PUBLISH
X-ORIGINAL-URL:https://elprograma.org/es/
X-WR-CALDESC:Eventos para El Programa Hispano Católico
REFRESH-INTERVAL;VALUE=DURATION:PT1H
X-Robots-Tag:noindex
X-PUBLISHED-TTL:PT1H
BEGIN:VTIMEZONE
TZID:America/Los_Angeles
BEGIN:DAYLIGHT
TZOFFSETFROM:-0800
TZOFFSETTO:-0700
TZNAME:PDT
DTSTART:20240310T100000
END:DAYLIGHT
BEGIN:STANDARD
TZOFFSETFROM:-0700
TZOFFSETTO:-0800
TZNAME:PST
DTSTART:20241103T090000
END:STANDARD
BEGIN:DAYLIGHT
TZOFFSETFROM:-0800
TZOFFSETTO:-0700
TZNAME:PDT
DTSTART:20250309T100000
END:DAYLIGHT
BEGIN:STANDARD
TZOFFSETFROM:-0700
TZOFFSETTO:-0800
TZNAME:PST
DTSTART:20251102T090000
END:STANDARD
BEGIN:DAYLIGHT
TZOFFSETFROM:-0800
TZOFFSETTO:-0700
TZNAME:PDT
DTSTART:20260308T100000
END:DAYLIGHT
BEGIN:STANDARD
TZOFFSETFROM:-0700
TZOFFSETTO:-0800
TZNAME:PST
DTSTART:20261101T090000
END:STANDARD
END:VTIMEZONE
BEGIN:VEVENT
DTSTART;TZID=America/Los_Angeles:20250312T160000
DTEND;TZID=America/Los_Angeles:20250312T173000
DTSTAMP:20260422T163439
CREATED:20250113T194011Z
LAST-MODIFIED:20250113T212902Z
UID:10000354-1741795200-1741800600@elprograma.org
SUMMARY:Mercado Gratuito de Alimentos de la Escuela Primaria Highland
DESCRIPTION:Visita nuestro Mercado de Alimentos Gratuitos en la Escuela Primaria Highland todos los miércoles de la 2ª semana de cada mes para obtener gratuitamente a frutas y verduras\, frescas y saludables\, y a algunos alimentos básicos de despensa para ti y tu familia. \nComprar en nuestro Mercado de Alimentos Gratuitos es sencillo:\n– Esta comida es gratuita y todo el mundo es bienvenido\n– No se necesita identificación\, nombre\, ni dirección\n– Por favor\, trae bolsas o cajas \n¿Tienes preguntas? Ponte en contacto con: Kaleb Meiers en kmeiers@elprograma.org o (503) 405-5100 \nCon el apoyo de:\n 
URL:https://elprograma.org/es/event/mercado-gratuito-de-alimentos-de-la-escuela-primaria-highland_2025/2025-03-12/
LOCATION:Highland Elementary School\, 295 NE 24th St\, Gresham\, 97030\, United States
CATEGORIES:Eventos comunitarios
ATTACH;FMTTYPE=image/png:https://elprograma.org/wp-content/uploads/2024/07/Highland-SPA.png
END:VEVENT
END:VCALENDAR