BEGIN:VCALENDAR
VERSION:2.0
PRODID:-//El Programa Hispano Católico - ECPv6.15.20//NONSGML v1.0//EN
CALSCALE:GREGORIAN
METHOD:PUBLISH
X-ORIGINAL-URL:https://elprograma.org/es/
X-WR-CALDESC:Eventos para El Programa Hispano Católico
REFRESH-INTERVAL;VALUE=DURATION:PT1H
X-Robots-Tag:noindex
X-PUBLISHED-TTL:PT1H
BEGIN:VTIMEZONE
TZID:America/Los_Angeles
BEGIN:DAYLIGHT
TZOFFSETFROM:-0800
TZOFFSETTO:-0700
TZNAME:PDT
DTSTART:20240310T100000
END:DAYLIGHT
BEGIN:STANDARD
TZOFFSETFROM:-0700
TZOFFSETTO:-0800
TZNAME:PST
DTSTART:20241103T090000
END:STANDARD
BEGIN:DAYLIGHT
TZOFFSETFROM:-0800
TZOFFSETTO:-0700
TZNAME:PDT
DTSTART:20250309T100000
END:DAYLIGHT
BEGIN:STANDARD
TZOFFSETFROM:-0700
TZOFFSETTO:-0800
TZNAME:PST
DTSTART:20251102T090000
END:STANDARD
BEGIN:DAYLIGHT
TZOFFSETFROM:-0800
TZOFFSETTO:-0700
TZNAME:PDT
DTSTART:20260308T100000
END:DAYLIGHT
BEGIN:STANDARD
TZOFFSETFROM:-0700
TZOFFSETTO:-0800
TZNAME:PST
DTSTART:20261101T090000
END:STANDARD
END:VTIMEZONE
BEGIN:VEVENT
DTSTART;VALUE=DATE:20251027
DTEND;VALUE=DATE:20251108
DTSTAMP:20260422T162355
CREATED:20251002T203600Z
LAST-MODIFIED:20251002T203731Z
UID:10000516-1761523200-1762559999@elprograma.org
SUMMARY:Altar Comunitario UNICA para el Día de los Muertos
DESCRIPTION:Únete a nosotros para celebrar y honrar a nuestros seres queridos que ya no están! Ven con tu familia y amigos para celebrar la vida y mantener viva la memoria de quienes amamos. ¡Todos son bienvenidos! \nPuedes Traer: \n\nFotos de tus seres queridos\nObjetos que les pertenecieron o les gustaban\nVelas\, flores\, y ofrendas\n\nEste altar estará en exposición en Rockwood Market Hall del 27 de octubre al 7 de Noviembre\, 2025.
URL:https://elprograma.org/es/event/altar-comunitario-unica-para-el-dia-de-los-muertos/
LOCATION:Rockwood Market Hall\, 458 SE 185th Avenue\, Portland\, OR\, 97233\, United States
CATEGORIES:Eventos comunitarios
ATTACH;FMTTYPE=image/png:https://elprograma.org/wp-content/uploads/2025/10/DVAM-Altar_event-header_SPA.png
END:VEVENT
BEGIN:VEVENT
DTSTART;TZID=America/Los_Angeles:20251104T160000
DTEND;TZID=America/Los_Angeles:20251104T173000
DTSTAMP:20260422T162355
CREATED:20251027T174825Z
LAST-MODIFIED:20251027T194643Z
UID:10000583-1762272000-1762277400@elprograma.org
SUMMARY:Despensa de alimentos de East Gresham
DESCRIPTION:¿Te gustaría adquirir comida gratis y saludable para ti y tu familia? ¡La despensa de comida escolar de la escuela Primaria East Gresham esta abierta!\nVen a la cafetería de East Gresham por comida gratis\, fresca\, y saludable para tu familia el 1er y 3er Martes de cada mes. ¡Todes son Bienvenides!\n\nParticipar en la repartición de despensas es fácil:\n\nPor favor\, trae tus propias bolsas o cajas\nIdentificación y verificación de ingreso no son requeridos\nCualquiera es bienvenido a visitar para la familia\n\n¿Tienes preguntas? Llama o envía mensaje de texto a Kaleb Meiers al (503) 405-5100 o kmeiers@elprograma.org \nCon el apoyo de:
URL:https://elprograma.org/es/event/despensa-de-alimentos-de-east-gresham_04-11-2025/
LOCATION:East Gresham Elementary School\, 900 SE 5th St\, Gresham\, OR\, 97080\, United States
CATEGORIES:Eventos comunitarios
ATTACH;FMTTYPE=image/png:https://elprograma.org/wp-content/uploads/2025/10/E-Gresham-SPA.png
END:VEVENT
BEGIN:VEVENT
DTSTART;TZID=America/Los_Angeles:20251110T160000
DTEND;TZID=America/Los_Angeles:20251110T173000
DTSTAMP:20260422T162355
CREATED:20251027T181611Z
LAST-MODIFIED:20251027T194351Z
UID:10000582-1762790400-1762795800@elprograma.org
SUMMARY:Despensa de Alimentos de la Escuela Secundaria Floyd Light
DESCRIPTION:¿Te gustaría adquirir comida gratis y saludable para ti y tu familia? La despensa de comida de la Escuela Secundaria Floyd Light esta abierta! \nVen a la cafetería de Floyd Light por comida gratis\, fresca\, y saludable para tu familia el 2do y 4to Martes de cada mes. ¡Todes son Bienvenides!  \nParticipar en la repartición de despensas es fácil: \n\nPor favor\, trae tus propias bolsas o cajas\nIdentificación y verificación de ingreso no son requeridos\nCualquiera es bienvenido a visitar para la familia\n\n¿Tienes preguntas? Llame o envié un mensaje a Kaleb Meiers at (503) 405-5100 o kmeiers@elprograma.org \nCon el apoyo de:
URL:https://elprograma.org/es/event/despensa-de-alimentos-de-la-escuela-secundaria-floyd-light_10-11-2025/
CATEGORIES:Eventos comunitarios
ATTACH;FMTTYPE=image/png:https://elprograma.org/wp-content/uploads/2025/10/Floyd-Light-SPA-1.png
END:VEVENT
BEGIN:VEVENT
DTSTART;TZID=America/Los_Angeles:20251112T160000
DTEND;TZID=America/Los_Angeles:20251112T173000
DTSTAMP:20260422T162355
CREATED:20251027T182907Z
LAST-MODIFIED:20251027T194039Z
UID:10000581-1762963200-1762968600@elprograma.org
SUMMARY:Mercado Gratuito de Alimentos de la Escuela Primaria Highland
DESCRIPTION:Visite la escuela primaria Highland el miércoles de la 2da semana de cada mes para adquirir frutas y verduras frescas y saludables\, y algunos productos básicos de la despensa gratis para usted y su familia. ¡Todes son Bienvenides! \nObtener alimentos en el Mercado de Alimentas Gratuitos es simple: \n\nEstos alimentos son gratis y para todos\nNo se necesita presentar identificación\, nombre ni dirección.\nPor favor\, traer bolsas o cajas\n\n¿Tienes preguntas? Ponte en contacto con: Kaleb Meiers en kmeiers@elprograma.org o (503) 405-5100 \nCon el apoyo de:
URL:https://elprograma.org/es/event/mercado-gratuito-de-alimentos-de-la-escuela-primaria-highland_12-11-2025/
LOCATION:Highland Elementary School\, 295 NE 24th St\, Gresham\, 97030\, United States
CATEGORIES:Eventos comunitarios
ATTACH;FMTTYPE=image/png:https://elprograma.org/wp-content/uploads/2025/10/Highland-SPA.png
END:VEVENT
BEGIN:VEVENT
DTSTART;TZID=America/Los_Angeles:20251117T160000
DTEND;TZID=America/Los_Angeles:20251117T173000
DTSTAMP:20260422T162355
CREATED:20251027T181722Z
LAST-MODIFIED:20251027T193740Z
UID:10000580-1763395200-1763400600@elprograma.org
SUMMARY:Despensa de Alimentos de la Escuela Secundaria Floyd Light
DESCRIPTION:¿Te gustaría adquirir comida gratis y saludable para ti y tu familia? La despensa de comida de la Escuela Secundaria Floyd Light esta abierta! \nVenga a la cafetería de Floyd Light por comida gratis\, fresca\, y saludable para su familia el 2do y 4to Lunes de cada mes. ¡Todes son Bienvenides!  \nParticipar en la repartición de despensas es fácil: \n\nPor favor\, trae tus propias bolsas o cajas\nIdentificación y verificación de ingreso no son requeridos\nCualquiera es bienvenido a visitar para la familia\n\n¿Tienes preguntas? Llame o envié un mensaje a Kaleb Meiers at (503) 405-5100 o kmeiers@elprograma.org \nCon el apoyo de:
URL:https://elprograma.org/es/event/despensa-de-alimentos-de-la-escuela-secundaria-floyd-light_17-11-2025/
CATEGORIES:Eventos comunitarios
ATTACH;FMTTYPE=image/png:https://elprograma.org/wp-content/uploads/2025/10/Floyd-Light-SPA-1.png
END:VEVENT
BEGIN:VEVENT
DTSTART;TZID=America/Los_Angeles:20251118T160000
DTEND;TZID=America/Los_Angeles:20251118T173000
DTSTAMP:20260422T162355
CREATED:20251027T174946Z
LAST-MODIFIED:20251027T193528Z
UID:10000579-1763481600-1763487000@elprograma.org
SUMMARY:Despensa de alimentos de East Gresham
DESCRIPTION:¿Te gustaría adquirir comida gratis y saludable para ti y tu familia? ¡La despensa de comida escolar de la escuela Primaria East Gresham esta abierta!\n\nVenga a la cafetería de East Gresham por comida gratis\, fresca\, y saludable para su familia el 1er y 3er Martes de cada mes. ¡Todes son Bienvenides!\n\nParticipar en la repartición de despensas es fácil:\n\nPor favor\, trae tus propias bolsas\nIdentificación y verificación de ingreso no son requeridos\nCualquiera es bienvenido a visitar para la familia\n\n¿Tienes preguntas? Llama o envía mensaje de texto a Kaleb Meiers al (503) 405-5100 o kmeiers@elprograma.org \nCon el apoyo de:
URL:https://elprograma.org/es/event/despensa-de-alimentos-de-east-gresham_18-11-2025/
LOCATION:East Gresham Elementary School\, 900 SE 5th St\, Gresham\, OR\, 97080\, United States
CATEGORIES:Eventos comunitarios
ATTACH;FMTTYPE=image/png:https://elprograma.org/wp-content/uploads/2025/10/E-Gresham-SPA.png
END:VEVENT
BEGIN:VEVENT
DTSTART;TZID=America/Los_Angeles:20251125T153000
DTEND;TZID=America/Los_Angeles:20251125T183000
DTSTAMP:20260422T162355
CREATED:20250212T173729Z
LAST-MODIFIED:20250212T192107Z
UID:10000443-1764084600-1764095400@elprograma.org
SUMMARY:La Clínica Móvil del Condado de Multnomah estará en El Programa Hispano
DESCRIPTION:¡Traemos el cuidado de Salud a nuestra Comunidad! \nEl Programa Hispano le invita a visitar el centro de salud móvil del Condado de Multnomah el cual ofrece atención médica de alta calidad y accesible para todos en nuestra comunidad. El grupo médico está dedicado a brindar una amplia gama de atención compasiva en un entorno cómodo y sin necesidad de tener cita. El grupo médico está dedicado a brindar una amplia gama de atención compasiva en un entorno cómodo y sin necesidad de una cita. \nEstos son algunos de los servicios: \n\nAtención Médica Integral\nLimpiezas dentales\nAnálisis de laboratorio limitados\nDespacho limitado de medicamentos recetados\nVacunas limitadas para adultos\, como:\n\nHep A\nHep B\nTdap (tétanos)\nGripe\nNeumonía\n*Próximamente: COVID\n\n\n\nVen a visitar la clínica situada en: 333 SE 223rd Ave\, Gresham OR 97030 \nCuando: Cada 2do y 4to martes del mes \nHora: 3:30 – 6:30pm \n  \nTraído a ti gracias a
URL:https://elprograma.org/es/event/la-clinica-movil-del-condado-de-multnomah-estara-en-el-programa-hispano/2025-11-25/
LOCATION:El Programa Hispano Office\, 333 Southeast 223rd Avenue\, #100\, Gresham\, OR\, 97030\, United States
CATEGORIES:Eventos comunitarios
ATTACH;FMTTYPE=image/png:https://elprograma.org/wp-content/uploads/2024/07/SPANISH.png
END:VEVENT
BEGIN:VEVENT
DTSTART;VALUE=DATE:20251127
DTEND;VALUE=DATE:20251128
DTSTAMP:20260422T162355
CREATED:20251027T201547Z
LAST-MODIFIED:20251027T202138Z
UID:10000596-1764201600-1764287999@elprograma.org
SUMMARY:Día de Acción de Gracias **Oficina Cerrada**
DESCRIPTION:
URL:https://elprograma.org/es/event/dia-de-accion-de-gracias-oficina-cerrada/
LOCATION:El Programa Hispano Office\, 333 Southeast 223rd Avenue\, #100\, Gresham\, OR\, 97030\, United States
END:VEVENT
BEGIN:VEVENT
DTSTART;VALUE=DATE:20251128
DTEND;VALUE=DATE:20251129
DTSTAMP:20260422T162355
CREATED:20251027T201709Z
LAST-MODIFIED:20251027T202101Z
UID:10000597-1764288000-1764374399@elprograma.org
SUMMARY:Día después del Día Acción de Gracias **Oficina Cerrada**
DESCRIPTION:
URL:https://elprograma.org/es/event/dia-despues-del-dia-accion-de-gracias-oficina-cerrada/
END:VEVENT
END:VCALENDAR