BEGIN:VCALENDAR
VERSION:2.0
PRODID:-//El Programa Hispano Católico - ECPv6.15.20//NONSGML v1.0//EN
CALSCALE:GREGORIAN
METHOD:PUBLISH
X-ORIGINAL-URL:https://elprograma.org/es/
X-WR-CALDESC:Eventos para El Programa Hispano Católico
REFRESH-INTERVAL;VALUE=DURATION:PT1H
X-Robots-Tag:noindex
X-PUBLISHED-TTL:PT1H
BEGIN:VTIMEZONE
TZID:America/Los_Angeles
BEGIN:DAYLIGHT
TZOFFSETFROM:-0800
TZOFFSETTO:-0700
TZNAME:PDT
DTSTART:20250309T100000
END:DAYLIGHT
BEGIN:STANDARD
TZOFFSETFROM:-0700
TZOFFSETTO:-0800
TZNAME:PST
DTSTART:20251102T090000
END:STANDARD
BEGIN:DAYLIGHT
TZOFFSETFROM:-0800
TZOFFSETTO:-0700
TZNAME:PDT
DTSTART:20260308T100000
END:DAYLIGHT
BEGIN:STANDARD
TZOFFSETFROM:-0700
TZOFFSETTO:-0800
TZNAME:PST
DTSTART:20261101T090000
END:STANDARD
BEGIN:DAYLIGHT
TZOFFSETFROM:-0800
TZOFFSETTO:-0700
TZNAME:PDT
DTSTART:20270314T100000
END:DAYLIGHT
BEGIN:STANDARD
TZOFFSETFROM:-0700
TZOFFSETTO:-0800
TZNAME:PST
DTSTART:20271107T090000
END:STANDARD
END:VTIMEZONE
BEGIN:VEVENT
DTSTART;TZID=America/Los_Angeles:20260430T080000
DTEND;TZID=America/Los_Angeles:20260430T180000
DTSTAMP:20260420T085853
CREATED:20260126T003810Z
LAST-MODIFIED:20260417T204524Z
UID:10000758-1777536000-1777572000@elprograma.org
SUMMARY:Conferencia VOCES de la Comunidad 2026
DESCRIPTION:      \n  \nVOCES de la Comunidad es una conferencia bilingüe que reúne a defensores\, artistas\, sobrevivientes y profesionales dedicados a apoyar a la comunidad latine afectada por la violencia doméstica\, la agresión sexual y la trata de personas. \nLa conferencia de este año contará con la oradora principal Emilly Prado\, autora de Funeral for Flaca\, junto con una presentación musical especial de Las Cafeteras. \nJuntos\, reflexionaremos\, conectaremos y reimaginaremos prácticas centradas en los sobrevivientes\, arraigadas en la cultura y lideradas por la comunidad. \n¡Ahora ofrecemos 7 CEU a través de MHACBO!\nLos talleres se ofrecerán tanto en español como en inglés\, con servicios de interpretación disponibles para garantizar la accesibilidad de todos los participantes. \nCelebre la resiliencia. Honre las experiencias vividas. Fortalezca nuestro compromiso colectivo con la sanación y la justicia. \n  \n\n  \nEntradas\nEntrada Regular: $300.00 \n«Pay It Forward» Dona la entrada de otra persona: $300.00 \nEntrada para Organizaciones Culturalmente Especificas: $250.00 \n\nDescuento para Grupos de 8 entradas o mas: Ofrecemos un 10% de descuento sobre el su total. Envíanos un mensaje para ordenar tus entradas de grupo a CommunityGiving@elprograma.org \n  \nPrograma\n8:00 am – Registro (Visita a los socios\, mesas de vendedores y exhibición de arte de sobrevivientes) \n9:00 am – Ceremonia de apertura y bienvenida \n9:30 am – Oradora principal: Emilly Prado (Autora de Funeral for Flaca) \n10:15 am – Taller de arte con Mario de León \n11:25 am – Taller de movimiento con Mayavita \n12:30 pm – Almuerzo con Las Cafeteras \n2:30 pm – Taller de poesía con Boca Ardiente \n3:40 pm – Taller de música con Sana Sana \n4:45 pm – Clausura \n5:00 pm – Networking\, exhibición de arte de sobrevivientes y mesas de vendedores. \n6:00 pm – Fin del evento \n  \nNominaciones para los Premios VOCES\nLos Premios VOCES celebran a defensoras/es y líderes comunitarios que han demostrado un fuerte compromiso en apoyar a sobrevivientes Latines. Los premios se entregarán durante nuestra Conferencia VOCES el 30 de abril de 2026.  \nNominaciones cerradas.\n  \n\nSobre de Las Cafeteras\nLas Cafeteras\, nacidos y criados al este del río de Los Ángeles\, fusionan la música de raíces con ritmos afromexicanos\, beats electrónicos y letras potentes que reflejan las historias de su comunidad y su visión de un mundo más inclusivo. Utilizando instrumentos tradicionales como la jarana\, el requinto\, la quijada y la tarima\, honran las tradiciones culturales mientras crean un sonido moderno. Cantan en cinco idiomas —inglés\, español\, spanglish\, amor y justicia— convencidos de que todo el mundo entiende\, al menos\, uno de ellos. \n  \n  \n  \n  \n  \nPatrocinios\nPatrocinar VOCES de la Comunidad es una inversión en servicios culturalmente específicos para sobrevivientes Latines de violencia doméstica\, sexual y trata de personas. Las y los patrocinadores reciben visibilidad y\, lo más importante\, se posicionan públicamente junto a las y los sobrevivientes para demostrar su apoyo y su compromiso con la erradicación de la violencia doméstica y sexual.  \nLas y los patrocinadores reciben visibilidad\, pero más importante aún\, se unen públicamente a la resiliencia de nuestra comunidad. \nPara más información o para establecer tu patrocinio\, comunícate con el Equipo de Desarrollo al correo CommunityGiving@elprograma.org o al (503) 669-8350 \n  \nMesas Informativas\nHay opciones de mesas informativas disponibles para negocios y organizaciones interesadas en promover sus servicios mientras apoyan nuestro evento. Su presencia fortalece las alianzas comunitarias y amplía nuestro impacto compartido. \n\n\n\n\nSOLO Mesa Informativa \nMesa Informativa + Entrada a la Conferencia\n\n\n\n\n\nPrecios de para reservar son los siguientes: \n\nOrganizaciones de Interés General: $100.00\nOrganizaciones culturalmente específicas: $75.00      \n\nIncluye: \n\nMesa de 6’\n2 sillas\n\n\n\nLos precios de los paquetes de son los siguientes: \n\nOrganizaciones de Interés General: $400.00\nOrganizaciones culturalmente específica: $325.00\n\nIncluye: \n\nMesa de 6’\n2 sillas\n2 entradas\n\n\n\n\n\n\n  \nVoluntariado\n¡Se parte de un día impactante e inspirador! Las y los voluntarios son esenciales para crear una experiencia acogedora\, organizada y dinámica para todas las personas que asistan a la Conferencia VOCES de la Comunidad. Se invita a individuos y grupos a donar su tiempo y energía en diversos roles: desde la instalación y desmontaje del evento\, bienvenida a asistentes\, apoyo en el registro\, servicio de alimentos\, apoyo en actividades y mesas de recursos\, hasta ayudar a que el día transcurra sin contratiempos.  \nTu entusiasmo y apoyo hacen posible este poderoso encuentro comunitario y garantizan una experiencia significativa para todas y todos. \n \n  \nOtras Formas de Apoyar\nSiempre estamos aceptando donaciones de artículos esenciales para sobrevivientes de violencia doméstica. Su generosidad ayuda a las familias a reconstruir sus vidas con seguridad y dignidad. ¡Cada artículo hace la diferencia!  \nEstamos recolectando:  \n\nArtículos para bebés (nuevos o en buen estado)\nArtículos de higiene personal \nProductos de higiene femenina \nCalcetines y ropa interior nuevos \nTarjetas de regalo \nDonaciones en efectivo \n\nPuede hacer una diferencia ahora mismo donando directamente a través de nuestra Lista de Deseos de UNICA en Amazon: \nhttps://tinyurl.com/4kr9hkpc\nJuntas y juntos podemos seguir demostrando a las y los sobrevivientes que nuestra comunidad se preocupa. \n  \nContacto\nSi tiene alguna pregunta o inquietud\, comuníquese con nosotras/os a unica@elprograma.org y use en el asunto: VOCES 2026. \n  \n  \n  \n  \n  \n  \n  \n  \nEste evento es orgullosamente patrocinado por:\n  \n \n  \n 
URL:https://elprograma.org/es/event/conferencia-voces-de-la-comunidad-2026/
LOCATION:DoubleTree Hotel Portland\, 1000 NE Multnomah St.\, Portland\, OR\, 97232\, United States
CATEGORIES:Conferencia
ATTACH;FMTTYPE=image/png:https://elprograma.org/wp-content/uploads/2026/01/Raices-Unidas_event-header_SPA-3.png
END:VEVENT
END:VCALENDAR