BEGIN:VCALENDAR
VERSION:2.0
PRODID:-//El Programa Hispano Católico - ECPv6.15.20//NONSGML v1.0//EN
CALSCALE:GREGORIAN
METHOD:PUBLISH
X-ORIGINAL-URL:https://elprograma.org/es/
X-WR-CALDESC:Eventos para El Programa Hispano Católico
REFRESH-INTERVAL;VALUE=DURATION:PT1H
X-Robots-Tag:noindex
X-PUBLISHED-TTL:PT1H
BEGIN:VTIMEZONE
TZID:America/Los_Angeles
BEGIN:DAYLIGHT
TZOFFSETFROM:-0800
TZOFFSETTO:-0700
TZNAME:PDT
DTSTART:20230312T100000
END:DAYLIGHT
BEGIN:STANDARD
TZOFFSETFROM:-0700
TZOFFSETTO:-0800
TZNAME:PST
DTSTART:20231105T090000
END:STANDARD
BEGIN:DAYLIGHT
TZOFFSETFROM:-0800
TZOFFSETTO:-0700
TZNAME:PDT
DTSTART:20240310T100000
END:DAYLIGHT
BEGIN:STANDARD
TZOFFSETFROM:-0700
TZOFFSETTO:-0800
TZNAME:PST
DTSTART:20241103T090000
END:STANDARD
BEGIN:DAYLIGHT
TZOFFSETFROM:-0800
TZOFFSETTO:-0700
TZNAME:PDT
DTSTART:20250309T100000
END:DAYLIGHT
BEGIN:STANDARD
TZOFFSETFROM:-0700
TZOFFSETTO:-0800
TZNAME:PST
DTSTART:20251102T090000
END:STANDARD
END:VTIMEZONE
BEGIN:VEVENT
DTSTART;TZID=America/Los_Angeles:20241030T170000
DTEND;TZID=America/Los_Angeles:20241030T190000
DTSTAMP:20260425T054215
CREATED:20240801T003504Z
LAST-MODIFIED:20240801T013234Z
UID:10000254-1730307600-1730314800@elprograma.org
SUMMARY:Miércoles de Nutrición
DESCRIPTION:Únase a nuestras clases de Miércoles de Nutrición\, un proyecto entre El Programa Hispano\, Servicios de Extensión de OSU\, y FoodHero. Estas clases se llevarán a cabo cada miércoles comenzando el 4 de septiembre hasta el 30 de octubre\, de 5pm a 7pm.  \nVen y aprende con nosotros: \n\nComo combinar diferentes alimentos y actividad física para una buena salud.\nComo hacer una mejor compra de comida.\nComo preparar comidas y bocadillos saludables para su familia.\nComo mantener la comida sana para su familia\n\nPara más información o para reservar su lugar\, póngase en contacto con Gregorio Chanocua al (503) 766-8297 \n \n  \nPatrocinado por:\n           
URL:https://elprograma.org/es/event/miercoles-de-nutricion/2024-10-30/
LOCATION:El Programa Hispano Office\, 333 Southeast 223rd Avenue\, #100\, Gresham\, OR\, 97030\, United States
CATEGORIES:Eventos comunitarios
ATTACH;FMTTYPE=image/png:https://elprograma.org/wp-content/uploads/2024/07/Miercoles-de-nutricion_website-header.png
END:VEVENT
BEGIN:VEVENT
DTSTART;TZID=America/Los_Angeles:20241102T130000
DTEND;TZID=America/Los_Angeles:20241102T180000
DTSTAMP:20260425T054215
CREATED:20240904T223500Z
LAST-MODIFIED:20241030T003514Z
UID:10000256-1730552400-1730570400@elprograma.org
SUMMARY:Día de los Muertos 2024
DESCRIPTION:Cada año\, El Programa organiza una celebración del Día de Muertos para honrar la vida y el legado de aquellos que han pasado a la siguiente fase de la existencia. \nEste año nuestro evento incluirá: \n\nPresentaciones por el grupo local de Danza Azteca Ollin Yolliztli\, y el grupo de Ballet Folclórico de la escuela primaria Highland.\nPanchito Aguirre y su Mariachi Chapala\nExhibición de altares comunitarios\nPasarela de Catrinas\, un desfile de moda con disfraces tradicionales del Día de Muertos\nPresentación en vivo del Muralista Mario de León\, capturando la esencia del Día de Muertos\nActividades interactivas para niños\nComida\, bebidas tradicionales y mucho más.\n\n¡Este es un evento perfecto para reunir a toda la familia para aprender\, celebrar y conmemorar juntos! \n \nPrograma del Evento\n1:00pm  Las puertas se abren\n2:00pm  Palabras de Apertura\n2:30pm  Ballet Folklorico presentada por los estudiantes de Highland Elementary\n3:00pm  Danza Azteca presentada por Ollin Yolliztli\n4:00pm  Pasarela de Catrinas/es\n5:00pm  Panchito Aguirre y su Mariachi Chapala \nDurante todo el evento también habrá: \n– Comida y bebida tradicional gratis\n– Presentación en vivo del muralista Mario de León\n– Actividades interactivas para niños \n  \nTransporte Publico\nSe puede llegar fácilmente al Maya Events Center en transporte público:: \nAutobús n.º 21: bájese en la parada NW Eastman & Burnside (Parada No. 10821) \nLínea Max Blue: bájese en la estación del MAX en Gresham City Hall y camine aproximadamente 0\,6 millas hacia el norte por la NW Eastman Pkwy o tome el autobús n.º 21 en dirección norte. \nPlanifica tu Viaje \n  \nPatrocine este Evento\n¿Está interesado/a/e en ser un patrocinador/a? ¡Tenemos oportunidades de patrocinio para este y otros eventos futuros! \n       \n  \nVoluntarios\n¡Estamos buscando voluntarios! Si está interesado/a/e en ser voluntario/a/e para este evento\, envíenos un correo electrónico a volunteers@elprograma.org \n  \nDone a nuestra Rifa\nBuscamos donaciones en especie de productos o servicios (incluidos cupones de descuento\, certificados de regalo\, etc.) para nuestra rifa que se llevara acabo el día de la caminata entre los participantes y como agradecimiento a los voluntarios. Si desea donar y recibir promoción a través de nuestros diferentes medios de comunicaciones y este evento para su negocio\, comuníquese con nuestro equipo de Desarrollo enviando un mensaje a communications@elprograma.org o llame al (503) 669-8350. \n  \nGracias a nuestros Patrocinadores\n \n \n \n \n 
URL:https://elprograma.org/es/event/dia-de-los-muertos-2024/
LOCATION:Maya Event Center\, 1698 Northwest Fairview Drive\, Gresham\, OR\, 97030\, United States
CATEGORIES:Eventos comunitarios
ATTACH;FMTTYPE=image/png:https://elprograma.org/wp-content/uploads/2024/09/DdM-SPA-1.png
END:VEVENT
END:VCALENDAR