BEGIN:VCALENDAR
VERSION:2.0
PRODID:-//El Programa Hispano Católico - ECPv6.15.20//NONSGML v1.0//EN
CALSCALE:GREGORIAN
METHOD:PUBLISH
X-ORIGINAL-URL:https://elprograma.org/es/
X-WR-CALDESC:Eventos para El Programa Hispano Católico
REFRESH-INTERVAL;VALUE=DURATION:PT1H
X-Robots-Tag:noindex
X-PUBLISHED-TTL:PT1H
BEGIN:VTIMEZONE
TZID:America/Los_Angeles
BEGIN:DAYLIGHT
TZOFFSETFROM:-0800
TZOFFSETTO:-0700
TZNAME:PDT
DTSTART:20230312T100000
END:DAYLIGHT
BEGIN:STANDARD
TZOFFSETFROM:-0700
TZOFFSETTO:-0800
TZNAME:PST
DTSTART:20231105T090000
END:STANDARD
BEGIN:DAYLIGHT
TZOFFSETFROM:-0800
TZOFFSETTO:-0700
TZNAME:PDT
DTSTART:20240310T100000
END:DAYLIGHT
BEGIN:STANDARD
TZOFFSETFROM:-0700
TZOFFSETTO:-0800
TZNAME:PST
DTSTART:20241103T090000
END:STANDARD
BEGIN:DAYLIGHT
TZOFFSETFROM:-0800
TZOFFSETTO:-0700
TZNAME:PDT
DTSTART:20250309T100000
END:DAYLIGHT
BEGIN:STANDARD
TZOFFSETFROM:-0700
TZOFFSETTO:-0800
TZNAME:PST
DTSTART:20251102T090000
END:STANDARD
END:VTIMEZONE
BEGIN:VEVENT
DTSTART;TZID=America/Los_Angeles:20241209T160000
DTEND;TZID=America/Los_Angeles:20241209T170000
DTSTAMP:20260424T060819
CREATED:20240726T001549Z
LAST-MODIFIED:20240726T004132Z
UID:10000192-1733760000-1733763600@elprograma.org
SUMMARY:Despensa de Alimentos de la Escuela Secundaria Floyd Light
DESCRIPTION:Pásate por la Escuela Media Floyd Light\, dentro de la cafetería\, para conseguir comida gratis\, fresca y sana para tu familia cada 2º y 4º lunes de cada mes. \nComprar en la despensa es fácil: \n\nTraiga sus propias bolsas\nNo se requiere identificación ni materiales de verificación de ingresos\nTodos son bienvenidos a comprar para su familia\n\n¿Tiene preguntas? Llame o envíe un mensaje a Giovanni Barranco al (971) 220-0930 \nCon el apoyo de:
URL:https://elprograma.org/es/event/despensa-de-alimentos-de-la-escuela-secundaria-floyd-light/2024-12-09/
CATEGORIES:Eventos comunitarios
ATTACH;FMTTYPE=image/png:https://elprograma.org/wp-content/uploads/2024/07/Floyd-Light-SPA.png
END:VEVENT
BEGIN:VEVENT
DTSTART;TZID=America/Los_Angeles:20241210T153000
DTEND;TZID=America/Los_Angeles:20241210T183000
DTSTAMP:20260424T060819
CREATED:20240709T022420Z
LAST-MODIFIED:20250212T191830Z
UID:10000454-1733844600-1733855400@elprograma.org
SUMMARY:La Clínica Móvil del Condado de Multnomah estará en El Programa Hispano
DESCRIPTION:¡Traemos el cuidado de Salud a nuestra Comunidad! \nEl Programa Hispano le invita a visitar el centro de salud móvil del Condado de Multnomah el cual ofrece atención médica de alta calidad y accesible para todos en nuestra comunidad. El grupo médico está dedicado a brindar una amplia gama de atención compasiva en un entorno cómodo y sin necesidad de tener cita. \nEstos son algunos de los servicios disponibles: \n\nAtención Médica Integral\nLimpiezas dentales\nAnálisis de laboratorio limitados\nDespacho limitado de medicamentos recetados\nVacunas Limitadas para adultos\, como:\n\nHep A\nHep B\nTdap (Tétano)\nGripe\nNeumonía\n*Próximamente COVID\n\n\n\nLos esperamos en nuestra oficina\, localizada en: 333 SE 223rd Ave\, Gresham OR 97030\nCuando: Cada 2do y 4to martes del mes\nHorario: 3:30pm – 6:30pm \n  \nTraído a ti gracias a
URL:https://elprograma.org/es/event/multco-mobile-health-clinic-estara-en-el-programa-hispano-6-2-2/2024-12-10/
LOCATION:El Programa Hispano Office\, 333 Southeast 223rd Avenue\, #100\, Gresham\, OR\, 97030\, United States
CATEGORIES:Eventos comunitarios
ATTACH;FMTTYPE=image/png:https://elprograma.org/wp-content/uploads/2024/07/SPANISH.png
END:VEVENT
BEGIN:VEVENT
DTSTART;TZID=America/Los_Angeles:20241210T160000
DTEND;TZID=America/Los_Angeles:20241210T170000
DTSTAMP:20260424T060819
CREATED:20240725T202214Z
LAST-MODIFIED:20240729T174234Z
UID:10000202-1733846400-1733850000@elprograma.org
SUMMARY:Despensa de alimentos de East Gresham
DESCRIPTION:Visite la Escuela Primaria de East Gresham\, en la cafetería\, para acceder a alimentos gratuitos\, frescos y sanos para tu familia el 1er y 3er martes del mes. \nComprar en la despensa es fácil: \n\nTrae tus propias bolsas\nNo se requiere identificación ni materiales de verificación de ingresos\nCualquiera es bienvenido a comprar para su familia\n\n¿Tiene preguntas? Llame o envíe un mensaje a Kaleb Meiers al (503) 405-5100 \nCon el apoyo de:
URL:https://elprograma.org/es/event/despensa-de-alimentos-de-east-gresham/2024-12-10/
LOCATION:East Gresham Elementary School\, 900 SE 5th St\, Gresham\, OR\, 97080\, United States
CATEGORIES:Eventos comunitarios
ATTACH;FMTTYPE=image/png:https://elprograma.org/wp-content/uploads/2024/07/E-Gresham-SPA.png
END:VEVENT
BEGIN:VEVENT
DTSTART;TZID=America/Los_Angeles:20241211T160000
DTEND;TZID=America/Los_Angeles:20241211T173000
DTSTAMP:20260424T060819
CREATED:20240725T194831Z
LAST-MODIFIED:20240726T002656Z
UID:10000182-1733932800-1733938200@elprograma.org
SUMMARY:Mercado de Comida Gratuito en la Escuela Primaria Highland
DESCRIPTION:Visite nuestro mercado de alimentos gratuito en la escuela primaria Highland la segunda semana de cada mes para acceder a frutas y verduras frescas\, saludables y gratuitas.\nalgunos productos básicos de despensa para ti y tu familia. \nComprar en nuestro Mercado Libre de Alimentos es sencillo:\n• Esta comida es gratis y todos son bienvenidos.\n• No se necesita identificación\, nombre o dirección\n• Por favor traiga bolsas o cajas. \n¿Tiene preguntas? Llame o envié mensaje de texto a Kaleb Meiers al (503) 405-5100 \nOrgullosamente Apoyado por:\n \n 
URL:https://elprograma.org/es/event/highland-free-food-market/2024-12-11/
LOCATION:Highland Elementary School\, 295 NE 24th St\, Gresham\, 97030\, United States
CATEGORIES:Eventos comunitarios
ATTACH;FMTTYPE=image/png:https://elprograma.org/wp-content/uploads/2024/07/Highland-SPA.png
END:VEVENT
END:VCALENDAR