BEGIN:VCALENDAR
VERSION:2.0
PRODID:-//El Programa Hispano Católico - ECPv6.15.20//NONSGML v1.0//EN
CALSCALE:GREGORIAN
METHOD:PUBLISH
X-WR-CALNAME:El Programa Hispano Católico
X-ORIGINAL-URL:https://elprograma.org/es/
X-WR-CALDESC:Eventos para El Programa Hispano Católico
REFRESH-INTERVAL;VALUE=DURATION:PT1H
X-Robots-Tag:noindex
X-PUBLISHED-TTL:PT1H
BEGIN:VTIMEZONE
TZID:America/Los_Angeles
BEGIN:DAYLIGHT
TZOFFSETFROM:-0800
TZOFFSETTO:-0700
TZNAME:PDT
DTSTART:20240310T100000
END:DAYLIGHT
BEGIN:STANDARD
TZOFFSETFROM:-0700
TZOFFSETTO:-0800
TZNAME:PST
DTSTART:20241103T090000
END:STANDARD
BEGIN:DAYLIGHT
TZOFFSETFROM:-0800
TZOFFSETTO:-0700
TZNAME:PDT
DTSTART:20250309T100000
END:DAYLIGHT
BEGIN:STANDARD
TZOFFSETFROM:-0700
TZOFFSETTO:-0800
TZNAME:PST
DTSTART:20251102T090000
END:STANDARD
BEGIN:DAYLIGHT
TZOFFSETFROM:-0800
TZOFFSETTO:-0700
TZNAME:PDT
DTSTART:20260308T100000
END:DAYLIGHT
BEGIN:STANDARD
TZOFFSETFROM:-0700
TZOFFSETTO:-0800
TZNAME:PST
DTSTART:20261101T090000
END:STANDARD
END:VTIMEZONE
BEGIN:VEVENT
DTSTART;TZID=America/Los_Angeles:20250310T160000
DTEND;TZID=America/Los_Angeles:20250310T170000
DTSTAMP:20260422T152120
CREATED:20250113T204330Z
LAST-MODIFIED:20250113T212440Z
UID:10000345-1741622400-1741626000@elprograma.org
SUMMARY:Despensa de Alimentos de la Escuela Secundaria Floyd Light
DESCRIPTION:Pase por la escuela secundaria Floyd Light\, dentro de la cafetería\, para conseguir comida gratis\, fresca y sana para tu familia cada 2º y 4º lunes de cada mes. \nComprar en la despensa es fácil:\n– Por favor\, trae tus propias bolsas\n– No se requiere identificación ni materiales de verificación de ingresos\n– Cualquiera es bienvenido a comprar para la familia \n¿Tienes preguntas? Llama o envía un mensaje de texto a Giovanni Barranco al (971) 220-0930 \nCon el apoyo de:
URL:https://elprograma.org/es/event/despensa-de-alimentos-de-la-escuela-secundaria-floyd-light_2025/2025-03-10/
CATEGORIES:Eventos comunitarios
ATTACH;FMTTYPE=image/png:https://elprograma.org/wp-content/uploads/2024/07/Floyd-Light-SPA.png
END:VEVENT
BEGIN:VEVENT
DTSTART;TZID=America/Los_Angeles:20250311T153000
DTEND;TZID=America/Los_Angeles:20250311T183000
DTSTAMP:20260422T152120
CREATED:20250212T192357Z
LAST-MODIFIED:20250212T210739Z
UID:10000472-1741707000-1741717800@elprograma.org
SUMMARY:La Clínica Móvil del Condado de Multnomah estará en El Programa Hispano
DESCRIPTION:¡Traemos el cuidado de Salud a nuestra Comunidad! \nEl Programa Hispano le invita a visitar el centro de salud móvil del Condado de Multnomah el cual ofrece atención médica de alta calidad y accesible para todos en nuestra comunidad. El grupo médico está dedicado a brindar una amplia gama de atención compasiva en un entorno cómodo y sin necesidad de tener cita. El grupo médico está dedicado a brindar una amplia gama de atención compasiva en un entorno cómodo y sin necesidad de una cita. \nEstos son algunos de los servicios: \n\nAtención Médica Integral\nLimpiezas dentales\nAnálisis de laboratorio limitados\nDespacho limitado de medicamentos recetados\nVacunas limitadas para adultos\, como:\n\nHep A\nHep B\nTdap (tétanos)\nGripe\nNeumonía\n*Próximamente: COVID\n\n\n\nVen a visitar la clínica situada en: 333 SE 223rd Ave\, Gresham OR 97030 \nCuando: Cada 2do y 4to martes del mes \nHora: 3:30 – 6:30pm \n  \nTraído a ti gracias a
URL:https://elprograma.org/es/event/la-clinica-movil-del-condado-de-multnomah-estara-en-el-programa-hispano-2-2/2025-03-11/
LOCATION:El Programa Hispano Office\, 333 Southeast 223rd Avenue\, #100\, Gresham\, OR\, 97030\, United States
CATEGORIES:Eventos comunitarios
ATTACH;FMTTYPE=image/png:https://elprograma.org/wp-content/uploads/2024/07/SPANISH.png
END:VEVENT
BEGIN:VEVENT
DTSTART;TZID=America/Los_Angeles:20250312T160000
DTEND;TZID=America/Los_Angeles:20250312T173000
DTSTAMP:20260422T152120
CREATED:20250113T194011Z
LAST-MODIFIED:20250113T212902Z
UID:10000354-1741795200-1741800600@elprograma.org
SUMMARY:Mercado Gratuito de Alimentos de la Escuela Primaria Highland
DESCRIPTION:Visita nuestro Mercado de Alimentos Gratuitos en la Escuela Primaria Highland todos los miércoles de la 2ª semana de cada mes para obtener gratuitamente a frutas y verduras\, frescas y saludables\, y a algunos alimentos básicos de despensa para ti y tu familia. \nComprar en nuestro Mercado de Alimentos Gratuitos es sencillo:\n– Esta comida es gratuita y todo el mundo es bienvenido\n– No se necesita identificación\, nombre\, ni dirección\n– Por favor\, trae bolsas o cajas \n¿Tienes preguntas? Ponte en contacto con: Kaleb Meiers en kmeiers@elprograma.org o (503) 405-5100 \nCon el apoyo de:\n 
URL:https://elprograma.org/es/event/mercado-gratuito-de-alimentos-de-la-escuela-primaria-highland_2025/2025-03-12/
LOCATION:Highland Elementary School\, 295 NE 24th St\, Gresham\, 97030\, United States
CATEGORIES:Eventos comunitarios
ATTACH;FMTTYPE=image/png:https://elprograma.org/wp-content/uploads/2024/07/Highland-SPA.png
END:VEVENT
BEGIN:VEVENT
DTSTART;TZID=America/Los_Angeles:20250315T130000
DTEND;TZID=America/Los_Angeles:20250315T143000
DTSTAMP:20260422T152120
CREATED:20250107T202614Z
LAST-MODIFIED:20250313T205118Z
UID:10000262-1742043600-1742049000@elprograma.org
SUMMARY:[Evento Virtual] Evento Anual de Reclutamiento de Voluntarios
DESCRIPTION:¡Te invitamos a nuestro Evento Anual de Reclutamiento de Voluntarios!\nÚnete a nosotros y descubre quiénes somos\, qué hacemos y el impacto que tenemos en la comunidad. En El Programa Hispano creemos en el poder del voluntariado para crear cambios positivos. Tanto si eres un voluntario veterano como alguien que quiere retribuir por primera vez\, hay un lugar para ti en nuestra comunidad. \nACTUALIZACIÓN: Este evento se ha trasladado a una reunión virtual a través de Zoom\, envíanos un correo electrónico a volunteers@elprograma.org para obtener más información y confirmar tu asistencia. 
URL:https://elprograma.org/es/event/evento-anual-de-reclutamiento-de-voluntarios/
CATEGORIES:Eventos comunitarios
ATTACH;FMTTYPE=image/png:https://elprograma.org/wp-content/uploads/2025/01/Annual-Volunteer-Event-Spanish-2.png
LOCATION:https://elprograma.org/es/event/evento-anual-de-reclutamiento-de-voluntarios/
END:VEVENT
END:VCALENDAR