BEGIN:VCALENDAR
VERSION:2.0
PRODID:-//El Programa Hispano Católico - ECPv6.15.20//NONSGML v1.0//EN
CALSCALE:GREGORIAN
METHOD:PUBLISH
X-ORIGINAL-URL:https://elprograma.org/es/
X-WR-CALDESC:Eventos para El Programa Hispano Católico
REFRESH-INTERVAL;VALUE=DURATION:PT1H
X-Robots-Tag:noindex
X-PUBLISHED-TTL:PT1H
BEGIN:VTIMEZONE
TZID:America/Los_Angeles
BEGIN:DAYLIGHT
TZOFFSETFROM:-0800
TZOFFSETTO:-0700
TZNAME:PDT
DTSTART:20240310T100000
END:DAYLIGHT
BEGIN:STANDARD
TZOFFSETFROM:-0700
TZOFFSETTO:-0800
TZNAME:PST
DTSTART:20241103T090000
END:STANDARD
BEGIN:DAYLIGHT
TZOFFSETFROM:-0800
TZOFFSETTO:-0700
TZNAME:PDT
DTSTART:20250309T100000
END:DAYLIGHT
BEGIN:STANDARD
TZOFFSETFROM:-0700
TZOFFSETTO:-0800
TZNAME:PST
DTSTART:20251102T090000
END:STANDARD
BEGIN:DAYLIGHT
TZOFFSETFROM:-0800
TZOFFSETTO:-0700
TZNAME:PDT
DTSTART:20260308T100000
END:DAYLIGHT
BEGIN:STANDARD
TZOFFSETFROM:-0700
TZOFFSETTO:-0800
TZNAME:PST
DTSTART:20261101T090000
END:STANDARD
END:VTIMEZONE
BEGIN:VEVENT
DTSTART;TZID=America/Los_Angeles:20250922T160000
DTEND;TZID=America/Los_Angeles:20250922T173000
DTSTAMP:20260425T054532
CREATED:20251027T181120Z
LAST-MODIFIED:20251027T181120Z
UID:10000589-1758556800-1758562200@elprograma.org
SUMMARY:Despensa de Alimentos de la Escuela Secundaria Floyd Light
DESCRIPTION:¿Te gustaría adquirir comida gratis y saludable para ti y tu familia? La despensa de comida de la Escuela Secundaria Floyd Light esta abierta! \nVenga a la cafetería de Floyd Light por comida gratis\, fresca\, y saludable para su familia el 2do y 4to Martes de cada mes. ¡Todes son Bienvenides!  \nParticipar en la repartición de esta despensa es fácil \n\nPorfavor\, trae tus propias bolsas\nIdentificación y verificación de ingreso no son requeridos\nCualquiera es bienvenido a visitar para la familia\n\n¿Tienes preguntas? Llame o envie un mensaje a Kaleb Meiers at (503) 405-5100 o kmeiers@elprograma.org \nCon el apoyo de:
URL:https://elprograma.org/es/event/despensa-de-alimentos-de-la-escuela-secundaria-floyd-light-8/
CATEGORIES:Eventos comunitarios
ATTACH;FMTTYPE=image/png:https://elprograma.org/wp-content/uploads/2025/01/Floyd-Light-ENG.png
END:VEVENT
BEGIN:VEVENT
DTSTART;TZID=America/Los_Angeles:20250923T153000
DTEND;TZID=America/Los_Angeles:20250923T183000
DTSTAMP:20260425T054532
CREATED:20250212T173729Z
LAST-MODIFIED:20250212T192107Z
UID:10000441-1758641400-1758652200@elprograma.org
SUMMARY:La Clínica Móvil del Condado de Multnomah estará en El Programa Hispano
DESCRIPTION:¡Traemos el cuidado de Salud a nuestra Comunidad! \nEl Programa Hispano le invita a visitar el centro de salud móvil del Condado de Multnomah el cual ofrece atención médica de alta calidad y accesible para todos en nuestra comunidad. El grupo médico está dedicado a brindar una amplia gama de atención compasiva en un entorno cómodo y sin necesidad de tener cita. El grupo médico está dedicado a brindar una amplia gama de atención compasiva en un entorno cómodo y sin necesidad de una cita. \nEstos son algunos de los servicios: \n\nAtención Médica Integral\nLimpiezas dentales\nAnálisis de laboratorio limitados\nDespacho limitado de medicamentos recetados\nVacunas limitadas para adultos\, como:\n\nHep A\nHep B\nTdap (tétanos)\nGripe\nNeumonía\n*Próximamente: COVID\n\n\n\nVen a visitar la clínica situada en: 333 SE 223rd Ave\, Gresham OR 97030 \nCuando: Cada 2do y 4to martes del mes \nHora: 3:30 – 6:30pm \n  \nTraído a ti gracias a
URL:https://elprograma.org/es/event/la-clinica-movil-del-condado-de-multnomah-estara-en-el-programa-hispano/2025-09-23/
LOCATION:El Programa Hispano Office\, 333 Southeast 223rd Avenue\, #100\, Gresham\, OR\, 97030\, United States
CATEGORIES:Eventos comunitarios
ATTACH;FMTTYPE=image/png:https://elprograma.org/wp-content/uploads/2024/07/SPANISH.png
END:VEVENT
END:VCALENDAR