BEGIN:VCALENDAR
VERSION:2.0
PRODID:-//El Programa Hispano Católico - ECPv6.15.20//NONSGML v1.0//EN
CALSCALE:GREGORIAN
METHOD:PUBLISH
X-ORIGINAL-URL:https://elprograma.org/es/
X-WR-CALDESC:Eventos para El Programa Hispano Católico
REFRESH-INTERVAL;VALUE=DURATION:PT1H
X-Robots-Tag:noindex
X-PUBLISHED-TTL:PT1H
BEGIN:VTIMEZONE
TZID:America/Los_Angeles
BEGIN:DAYLIGHT
TZOFFSETFROM:-0800
TZOFFSETTO:-0700
TZNAME:PDT
DTSTART:20240310T100000
END:DAYLIGHT
BEGIN:STANDARD
TZOFFSETFROM:-0700
TZOFFSETTO:-0800
TZNAME:PST
DTSTART:20241103T090000
END:STANDARD
BEGIN:DAYLIGHT
TZOFFSETFROM:-0800
TZOFFSETTO:-0700
TZNAME:PDT
DTSTART:20250309T100000
END:DAYLIGHT
BEGIN:STANDARD
TZOFFSETFROM:-0700
TZOFFSETTO:-0800
TZNAME:PST
DTSTART:20251102T090000
END:STANDARD
BEGIN:DAYLIGHT
TZOFFSETFROM:-0800
TZOFFSETTO:-0700
TZNAME:PDT
DTSTART:20260308T100000
END:DAYLIGHT
BEGIN:STANDARD
TZOFFSETFROM:-0700
TZOFFSETTO:-0800
TZNAME:PST
DTSTART:20261101T090000
END:STANDARD
END:VTIMEZONE
BEGIN:VEVENT
DTSTART;TZID=America/Los_Angeles:20251005T110000
DTEND;TZID=America/Los_Angeles:20251005T210000
DTSTAMP:20260423T123847
CREATED:20251002T021210Z
LAST-MODIFIED:20251002T023523Z
UID:10000505-1759662000-1759698000@elprograma.org
SUMMARY:Cenando con Sobrevivientes Jumbo Burger
DESCRIPTION:Únete a nosotros para una noche de comida\, comunidad y esperanza. Cenando con Sobrevivientes une a comunidad para recaudar fondos y reunir suministros esenciales para las/los/les sobrevivientes de violencia doméstica mientras reconstruyen sus vidas en seguridad. \nEl 30% de todas las ganancias se destinará directamente a nuestro programa UNICA para financiar servicios de apoyo a sobrevivientes. \n¡Se aceptan donaciones en especie! \n\nArtículos para bebés\nToallas sanitarias y tampones\nArtículos de higiene\nRopa interior y calcetines nuevos\nEfectivo\n\n¡Gracias a Jumbo Burger! \n¿Preguntas? Llámanos al (503) 232-4448 \n  \n  \nEPHC es una organización 501(c)3 de enfoque cultural específico que sirve a la comunidad desde 1982. Nuestra misión es «promover la equidad racial y la justicia social a través del poder de nuestra cultura\, comunidad y autodeterminación Latine».
URL:https://elprograma.org/es/event/cenando-con-sobrevivientes-jumbo-burger_10-05/
LOCATION:Jumbo Burger\, 5205 SE Foster Rd.\, Portland\, OR\, 97206\, United States
CATEGORIES:Eventos comunitarios,Recaudación de fondos
ATTACH;FMTTYPE=image/png:https://elprograma.org/wp-content/uploads/2025/10/DVAM-Dining-at-Jumbo-burger_-event-header_10.05_SPA.png
END:VEVENT
BEGIN:VEVENT
DTSTART;TZID=America/Los_Angeles:20251006T183000
DTEND;TZID=America/Los_Angeles:20251006T200000
DTSTAMP:20260423T123848
CREATED:20250929T182340Z
LAST-MODIFIED:20250929T185400Z
UID:10000502-1759775400-1759780800@elprograma.org
SUMMARY:Proclamación del Mes de Concientización sobre la Violencia Doméstica
DESCRIPTION:Acompáñanos a una tarde inspiradora de solidaridad\, sanación y acción mientras honramos la fortaleza y resiliencia de las sobrevivientes de violencia doméstica. Juntos levantaremos la voz y proclamaremos octubre como el Mes de Concientización sobre la Violencia Doméstica.  \nLo más destacado de la tarde: \n\nProclamación inspiradora a cargo del Representante Estatal Ricki Ruiz\nPoderosas Voces de Sobrevivientes\nÚtiles Mesas de Recursos e Información\n\n¡Unámonos con esperanza\, compasión y compromiso hacia un futuro más seguro para todos! \n  \nGracias por su apoyo: \n \n 
URL:https://elprograma.org/es/event/proclamacion-del-mes-de-concientizacion-sobre-la-violencia-domestica/
LOCATION:Rockwood Market Hall\, 458 SE 185th Avenue\, Portland\, OR\, 97233\, United States
CATEGORIES:Eventos comunitarios
ATTACH;FMTTYPE=image/png:https://elprograma.org/wp-content/uploads/2025/09/DVAM-proclamation_event-header_SPA.png
END:VEVENT
BEGIN:VEVENT
DTSTART;TZID=America/Los_Angeles:20251007T160000
DTEND;TZID=America/Los_Angeles:20251007T173000
DTSTAMP:20260423T123848
CREATED:20251027T174504Z
LAST-MODIFIED:20251027T200815Z
UID:10000588-1759852800-1759858200@elprograma.org
SUMMARY:Despensa de alimentos de East Gresham
DESCRIPTION:¿Te gustaría adquirir comida gratis y saludable para ti y tu familia? ¡La despensa de comida escolar de la escuela primaria East Gresham esta abierta!\nVen a la cafetería de East Gresham por comida gratis\, fresca\, y saludable para su familia el 1er y 3er Martes de cada mes. ¡Todes son Bienvenides!\n\nParticipar en la repartición de despensas es fácil:\n\nPor favor\, trae tus propias bolsas y cajas\nIdentificación y verificación de ingreso no son requeridos\nCualquiera es bienvenido a visitar para la familia\n\n¿Tienes preguntas? Llama o envía mensaje de texto a Kaleb Meiers al (503) 405-5100 o kmeiers@elprograma.org \nCon el apoyo de:
URL:https://elprograma.org/es/event/despensa-de-alimentos-de-east-gresham-07-10-2025/
LOCATION:East Gresham Elementary School\, 900 SE 5th St\, Gresham\, OR\, 97080\, United States
CATEGORIES:Eventos comunitarios
ATTACH;FMTTYPE=image/png:https://elprograma.org/wp-content/uploads/2025/10/E-Gresham-SPA.png
END:VEVENT
BEGIN:VEVENT
DTSTART;TZID=America/Los_Angeles:20251008T160000
DTEND;TZID=America/Los_Angeles:20251008T173000
DTSTAMP:20260423T123848
CREATED:20251027T182727Z
LAST-MODIFIED:20251027T200148Z
UID:10000587-1759939200-1759944600@elprograma.org
SUMMARY:Mercado Gratuito de Alimentos de la Escuela Primaria Highland
DESCRIPTION:Visita la escuela primaria Highland el miércoles de la 2da semana de cada mes para adquirir frutas y verduras frescas y saludables\, y algunos productos básicos de la despensa gratis para usted y su familia. ¡Todes son Bienvenides! \nObtener alimentos en el Mercado de Alimentas Gratuitos es simple: \n\nEstos alimentos son gratis y para todos\nNo se necesita presentar identificación\, nombre ni dirección.\nPor favor\, traer bolsas o cajas\n\n¿Tienes preguntas? Ponte en contacto con: Kaleb Meiers en kmeiers@elprograma.org o (503) 405-5100 \nCon el apoyo de:
URL:https://elprograma.org/es/event/mercado-gratuito-de-alimentos-de-la-escuela-primaria-highland_08-10-2025/
LOCATION:Highland Elementary School\, 295 NE 24th St\, Gresham\, 97030\, United States
CATEGORIES:Eventos comunitarios
ATTACH;FMTTYPE=image/png:https://elprograma.org/wp-content/uploads/2025/10/Highland-SPA.png
END:VEVENT
BEGIN:VEVENT
DTSTART;TZID=America/Los_Angeles:20251010T170000
DTEND;TZID=America/Los_Angeles:20251010T220000
DTSTAMP:20260423T123848
CREATED:20251002T034603Z
LAST-MODIFIED:20251002T035146Z
UID:10000509-1760115600-1760133600@elprograma.org
SUMMARY:Cenando con Sobrevivientes: Don Ladis Taco Shop
DESCRIPTION:  \nÚnete a nosotros para una noche de comida\, comunidad y esperanza. Cenando con Sobrevivientes une a comunidad para recaudar fondos y reunir suministros esenciales para las/los/les sobrevivientes de violencia doméstica mientras reconstruyen sus vidas en seguridad.\n\nAlgunas de las ganancias se destinarán directamente a nuestro programa UNICA para financiar servicios de apoyo a sobrevivientes.\n\n¡Se aceptan donaciones en especie!\n\nArtículos para bebés\nToallas sanitarias y tampones\nArtículos de higiene\nRopa interior y calcetines nuevos\nEfectivo\n\n\n¡Gracias a Don Ladis Taco Shop por su apoyo!\n\n¿Preguntas? Llámanos al (503) 232-4448\n\nEPHC es una organización 501(c)3 de enfoque cultural específico que sirve a la comunidad desde 1982. Nuestra misión es «promover la equidad racial y la justicia social a través del poder de nuestra cultura\, comunidad y autodeterminación Latine».
URL:https://elprograma.org/es/event/cenando-con-sobrevivientes-don-ladis-taco-shop/
LOCATION:Jumbo Burger\, 5205 SE Foster Rd.\, Portland\, OR\, 97206\, United States
CATEGORIES:Eventos comunitarios,Recaudación de fondos
ATTACH;FMTTYPE=image/png:https://elprograma.org/wp-content/uploads/2025/10/Don-Ladis_SPA.png
END:VEVENT
END:VCALENDAR