BEGIN:VCALENDAR
VERSION:2.0
PRODID:-//El Programa Hispano Católico - ECPv6.15.20//NONSGML v1.0//EN
CALSCALE:GREGORIAN
METHOD:PUBLISH
X-ORIGINAL-URL:https://elprograma.org/es/
X-WR-CALDESC:Eventos para El Programa Hispano Católico
REFRESH-INTERVAL;VALUE=DURATION:PT1H
X-Robots-Tag:noindex
X-PUBLISHED-TTL:PT1H
BEGIN:VTIMEZONE
TZID:America/Los_Angeles
BEGIN:DAYLIGHT
TZOFFSETFROM:-0800
TZOFFSETTO:-0700
TZNAME:PDT
DTSTART:20240310T100000
END:DAYLIGHT
BEGIN:STANDARD
TZOFFSETFROM:-0700
TZOFFSETTO:-0800
TZNAME:PST
DTSTART:20241103T090000
END:STANDARD
BEGIN:DAYLIGHT
TZOFFSETFROM:-0800
TZOFFSETTO:-0700
TZNAME:PDT
DTSTART:20250309T100000
END:DAYLIGHT
BEGIN:STANDARD
TZOFFSETFROM:-0700
TZOFFSETTO:-0800
TZNAME:PST
DTSTART:20251102T090000
END:STANDARD
BEGIN:DAYLIGHT
TZOFFSETFROM:-0800
TZOFFSETTO:-0700
TZNAME:PDT
DTSTART:20260308T100000
END:DAYLIGHT
BEGIN:STANDARD
TZOFFSETFROM:-0700
TZOFFSETTO:-0800
TZNAME:PST
DTSTART:20261101T090000
END:STANDARD
END:VTIMEZONE
BEGIN:VEVENT
DTSTART;TZID=America/Los_Angeles:20251021T160000
DTEND;TZID=America/Los_Angeles:20251021T173000
DTSTAMP:20260423T124248
CREATED:20251027T174702Z
LAST-MODIFIED:20251027T195702Z
UID:10000585-1761062400-1761067800@elprograma.org
SUMMARY:Despensa de alimentos de East Gresham
DESCRIPTION:¿Te gustaría adquirir comida gratis y saludable para ti y tu familia? ¡La despensa de comida escolar de la escuela Primaria East Gresham esta abierta!\nVen a la cafetería de East Gresham por comida gratis\, fresca\, y saludable para su familia el 1er y 3er Martes de cada mes. ¡Todes son Bienvenides!\n\nParticipar en la repartición de despensas es fácil:\n\nPor favor\, trae tus propias bolsas\nIdentificación y verificación de ingreso no son requeridos\nCualquiera es bienvenido a visitar para la familia\n\n¿Tienes preguntas? Llama o envía mensaje de texto a Kaleb Meiers al (503) 405-5100 o kmeiers@elprograma.org \nCon el apoyo de:
URL:https://elprograma.org/es/event/despensa-de-alimentos-de-east-gresham_21-10-2025/
LOCATION:East Gresham Elementary School\, 900 SE 5th St\, Gresham\, OR\, 97080\, United States
CATEGORIES:Eventos comunitarios
ATTACH;FMTTYPE=image/png:https://elprograma.org/wp-content/uploads/2025/10/E-Gresham-SPA.png
END:VEVENT
BEGIN:VEVENT
DTSTART;TZID=America/Los_Angeles:20251023T150000
DTEND;TZID=America/Los_Angeles:20251023T210000
DTSTAMP:20260423T124248
CREATED:20251002T180628Z
LAST-MODIFIED:20251002T190545Z
UID:10000511-1761231600-1761253200@elprograma.org
SUMMARY:Cenando con Sobrevivientes en Taquería Mi Jalisco
DESCRIPTION:  \nÚnete a nosotros para una noche de comida\, comunidad y esperanza. Cenando con Sobrevivientes une a comunidad para recaudar fondos y reunir suministros esenciales para las/los/les sobrevivientes de violencia doméstica mientras reconstruyen sus vidas en seguridad.\n\nLas ganancias se destinará directamente a nuestro programa UNICA para financiar servicios de apoyo a sobrevivientes.\n\n¡Se aceptan donaciones en especie!\n\nArtículos para bebés\nToallas sanitarias y tampones\nArtículos de higiene\nRopa interior y calcetines nuevos\nEfectivo\n\n\n¡Gracias a Taquería Mi Jalisco!\n\n¿Preguntas? Llámanos al (503) 232-4448\n\nEPHC es una organización 501(c)3 de enfoque cultural específico que sirve a la comunidad desde 1982. Nuestra misión es «promover la equidad racial y la justicia social a través del poder de nuestra cultura\, comunidad y autodeterminación Latine».
URL:https://elprograma.org/es/event/cenando-con-sobrevivientes-en-taqueria-mi-jalisco/
LOCATION:Taqueria Mi Jalisco\, 1255 N Main Avenue\, Gresham\, OR\, 97030\, United States
CATEGORIES:Eventos comunitarios,Recaudación de fondos
ATTACH;FMTTYPE=image/png:https://elprograma.org/wp-content/uploads/2025/10/Dining-at-Jumbo-Burger_event-header_SPA.png
END:VEVENT
BEGIN:VEVENT
DTSTART;TZID=America/Los_Angeles:20251024T170000
DTEND;TZID=America/Los_Angeles:20251024T220000
DTSTAMP:20260423T124248
CREATED:20251002T185344Z
LAST-MODIFIED:20251027T172253Z
UID:10000513-1761325200-1761343200@elprograma.org
SUMMARY:**EVENTO CANCELADO** Noche de Karaoke de UNICA en Fairview Food Plaza
DESCRIPTION:**Evento Cancelado**\n\nAcompáñenos a una noche inolvidable de música\, risas y comunidad\, todo por una causa poderosa. Cada canción que cantemos ayudará a visibilizar la resiliencia de las sobrevivientes de violencia doméstica y a apoyar los servicios esenciales que UNICA brinda mientras reconstruyen sus vidas con seguridad.\n\n¡Agradecemos las donaciones en especie!\n\nArtículos para bebés\nToallitas sanitarias y tampones\nArtículos de higiene\nRopa interior y calcetines nuevos\nDinero en efectivo\n\n\n¡Gracias a Fairview Food Plaza!\n\n¿Preguntas? Llámenos al (503) 232-4448\n\nEPHC es una organización 501(c)3 con especificidad cultural que sirve a la comunidad desde 1982. Nuestra misión es promover la equidad racial y la justicia social a través del poder de nuestra cultura latina\, comunidad y autodeterminación.
URL:https://elprograma.org/es/event/noche-de-karaoke-de-unica/
LOCATION:Fairview Food Plaza\, 22320 NE Halsey St.\, Fairview\, OR\, 97024\, United States
CATEGORIES:Eventos comunitarios,Recaudación de fondos
END:VEVENT
END:VCALENDAR