BEGIN:VCALENDAR
VERSION:2.0
PRODID:-//El Programa Hispano Católico - ECPv6.15.20//NONSGML v1.0//EN
CALSCALE:GREGORIAN
METHOD:PUBLISH
X-ORIGINAL-URL:https://elprograma.org
X-WR-CALDESC:Events for El Programa Hispano Católico
REFRESH-INTERVAL;VALUE=DURATION:PT1H
X-Robots-Tag:noindex
X-PUBLISHED-TTL:PT1H
BEGIN:VTIMEZONE
TZID:America/Los_Angeles
BEGIN:DAYLIGHT
TZOFFSETFROM:-0800
TZOFFSETTO:-0700
TZNAME:PDT
DTSTART:20230312T100000
END:DAYLIGHT
BEGIN:STANDARD
TZOFFSETFROM:-0700
TZOFFSETTO:-0800
TZNAME:PST
DTSTART:20231105T090000
END:STANDARD
BEGIN:DAYLIGHT
TZOFFSETFROM:-0800
TZOFFSETTO:-0700
TZNAME:PDT
DTSTART:20240310T100000
END:DAYLIGHT
BEGIN:STANDARD
TZOFFSETFROM:-0700
TZOFFSETTO:-0800
TZNAME:PST
DTSTART:20241103T090000
END:STANDARD
BEGIN:DAYLIGHT
TZOFFSETFROM:-0800
TZOFFSETTO:-0700
TZNAME:PDT
DTSTART:20250309T100000
END:DAYLIGHT
BEGIN:STANDARD
TZOFFSETFROM:-0700
TZOFFSETTO:-0800
TZNAME:PST
DTSTART:20251102T090000
END:STANDARD
END:VTIMEZONE
BEGIN:VEVENT
DTSTART;TZID=America/Los_Angeles:20241211T160000
DTEND;TZID=America/Los_Angeles:20241211T173000
DTSTAMP:20260425T103629
CREATED:20240725T194831Z
LAST-MODIFIED:20240726T000305Z
UID:10000152-1733932800-1733938200@elprograma.org
SUMMARY:Highland Elementary Free Food Market
DESCRIPTION:Visit our Free Food Market at Highland Elementary School on the 2nd week of each month to access free\, fresh\, and healthy fruits and vegetables and\nsome pantry staples for you and your family. \nShopping at our Free Food Market is simple:\n• This food is free and everyone is welcome\n• No ID\, name\, or address needed\n• Please bring bags or boxes \nQuestions? Contact: Kaleb Meiers at kmeiers@elprograma.org or (503) 405-5100 \nProudly Supported by:\n \n 
URL:https://elprograma.org/event/highland-free-food-market/2024-12-11/
LOCATION:Highland Elementary School\, 295 NE 24th St\, Gresham\, 97030\, United States
CATEGORIES:Community Events
ATTACH;FMTTYPE=image/png:https://elprograma.org/wp-content/uploads/2024/07/Highland-ENG.png
END:VEVENT
END:VCALENDAR