BEGIN:VCALENDAR
VERSION:2.0
PRODID:-//El Programa Hispano Católico - ECPv6.15.20//NONSGML v1.0//EN
CALSCALE:GREGORIAN
METHOD:PUBLISH
X-ORIGINAL-URL:https://elprograma.org
X-WR-CALDESC:Events for El Programa Hispano Católico
REFRESH-INTERVAL;VALUE=DURATION:PT1H
X-Robots-Tag:noindex
X-PUBLISHED-TTL:PT1H
BEGIN:VTIMEZONE
TZID:America/Los_Angeles
BEGIN:DAYLIGHT
TZOFFSETFROM:-0800
TZOFFSETTO:-0700
TZNAME:PDT
DTSTART:20230312T100000
END:DAYLIGHT
BEGIN:STANDARD
TZOFFSETFROM:-0700
TZOFFSETTO:-0800
TZNAME:PST
DTSTART:20231105T090000
END:STANDARD
BEGIN:DAYLIGHT
TZOFFSETFROM:-0800
TZOFFSETTO:-0700
TZNAME:PDT
DTSTART:20240310T100000
END:DAYLIGHT
BEGIN:STANDARD
TZOFFSETFROM:-0700
TZOFFSETTO:-0800
TZNAME:PST
DTSTART:20241103T090000
END:STANDARD
BEGIN:DAYLIGHT
TZOFFSETFROM:-0800
TZOFFSETTO:-0700
TZNAME:PDT
DTSTART:20250309T100000
END:DAYLIGHT
BEGIN:STANDARD
TZOFFSETFROM:-0700
TZOFFSETTO:-0800
TZNAME:PST
DTSTART:20251102T090000
END:STANDARD
BEGIN:DAYLIGHT
TZOFFSETFROM:-0800
TZOFFSETTO:-0700
TZNAME:PDT
DTSTART:20260308T100000
END:DAYLIGHT
BEGIN:STANDARD
TZOFFSETFROM:-0700
TZOFFSETTO:-0800
TZNAME:PST
DTSTART:20261101T090000
END:STANDARD
END:VTIMEZONE
BEGIN:VEVENT
DTSTART;VALUE=DATE:20241223
DTEND;VALUE=DATE:20250104
DTSTAMP:20260425T093225
CREATED:20241217T235803Z
LAST-MODIFIED:20241218T000413Z
UID:10000259-1734912000-1735948799@elprograma.org
SUMMARY:El Programa Hispano will be CLOSED from December 23\, 2024 to January 3\, 2025
DESCRIPTION:El Programa Hispano will be CLOSED from December 23\, 2024 to January 3\, 2025\nOur office and services will be CLOSED starting Monday\, December 23\, 2024 to Friday January 3rd\, 2025 as Wellness days for our staff. UNICA services will remain accessible through the UNICA Line (503) 232-4448 or 1(800) 232-4448. \nWe will reopen our office on Monday January 6\, 2025 from 8:30am to 5pm. Thank you for your understanding and patience! \n¡Felices Fiestas!
URL:https://elprograma.org/event/el-programa-hispano-will-be-closed-from-december-23-2024-to-january-3-2025/
END:VEVENT
END:VCALENDAR