BEGIN:VCALENDAR
VERSION:2.0
PRODID:-//El Programa Hispano Católico - ECPv6.15.20//NONSGML v1.0//EN
CALSCALE:GREGORIAN
METHOD:PUBLISH
X-ORIGINAL-URL:https://elprograma.org
X-WR-CALDESC:Events for El Programa Hispano Católico
REFRESH-INTERVAL;VALUE=DURATION:PT1H
X-Robots-Tag:noindex
X-PUBLISHED-TTL:PT1H
BEGIN:VTIMEZONE
TZID:America/Los_Angeles
BEGIN:DAYLIGHT
TZOFFSETFROM:-0800
TZOFFSETTO:-0700
TZNAME:PDT
DTSTART:20240310T100000
END:DAYLIGHT
BEGIN:STANDARD
TZOFFSETFROM:-0700
TZOFFSETTO:-0800
TZNAME:PST
DTSTART:20241103T090000
END:STANDARD
BEGIN:DAYLIGHT
TZOFFSETFROM:-0800
TZOFFSETTO:-0700
TZNAME:PDT
DTSTART:20250309T100000
END:DAYLIGHT
BEGIN:STANDARD
TZOFFSETFROM:-0700
TZOFFSETTO:-0800
TZNAME:PST
DTSTART:20251102T090000
END:STANDARD
BEGIN:DAYLIGHT
TZOFFSETFROM:-0800
TZOFFSETTO:-0700
TZNAME:PDT
DTSTART:20260308T100000
END:DAYLIGHT
BEGIN:STANDARD
TZOFFSETFROM:-0700
TZOFFSETTO:-0800
TZNAME:PST
DTSTART:20261101T090000
END:STANDARD
END:VTIMEZONE
BEGIN:VEVENT
DTSTART;TZID=America/Los_Angeles:20251008T160000
DTEND;TZID=America/Los_Angeles:20251008T173000
DTSTAMP:20260423T065131
CREATED:20251027T182727Z
LAST-MODIFIED:20251027T182727Z
UID:10000571-1759939200-1759944600@elprograma.org
SUMMARY:Highland Elementary Free Food Market
DESCRIPTION:Visit our Free Food Market at Highland Elementary School every Wednesday on the 2nd week of each month to access free\, fresh\, and healthy fruits and vegetables and some pantry staples for you and your family. Everyone is Welcome! \nShopping at our Free Food Market is simple: \n\nThis food is free and everyone is welcome\nNo ID\, name\, or address needed\nPlease bring bags or boxes\n\nQuestions? Contact: Kaleb Meiers at kmeiers@elprograma.org or (503) 405-5100 \nProudly Supported by:
URL:https://elprograma.org/event/highland-elementary-free-food-market_10-08-2025/
LOCATION:Highland Elementary School\, 295 NE 24th St\, Gresham\, 97030\, United States
CATEGORIES:Community Events
ATTACH;FMTTYPE=image/png:https://elprograma.org/wp-content/uploads/2024/07/Highland-ENG.png
END:VEVENT
END:VCALENDAR