BEGIN:VCALENDAR
VERSION:2.0
PRODID:-//El Programa Hispano Católico - ECPv6.15.20//NONSGML v1.0//EN
CALSCALE:GREGORIAN
METHOD:PUBLISH
X-ORIGINAL-URL:https://elprograma.org
X-WR-CALDESC:Events for El Programa Hispano Católico
REFRESH-INTERVAL;VALUE=DURATION:PT1H
X-Robots-Tag:noindex
X-PUBLISHED-TTL:PT1H
BEGIN:VTIMEZONE
TZID:America/Los_Angeles
BEGIN:DAYLIGHT
TZOFFSETFROM:-0800
TZOFFSETTO:-0700
TZNAME:PDT
DTSTART:20240310T100000
END:DAYLIGHT
BEGIN:STANDARD
TZOFFSETFROM:-0700
TZOFFSETTO:-0800
TZNAME:PST
DTSTART:20241103T090000
END:STANDARD
BEGIN:DAYLIGHT
TZOFFSETFROM:-0800
TZOFFSETTO:-0700
TZNAME:PDT
DTSTART:20250309T100000
END:DAYLIGHT
BEGIN:STANDARD
TZOFFSETFROM:-0700
TZOFFSETTO:-0800
TZNAME:PST
DTSTART:20251102T090000
END:STANDARD
BEGIN:DAYLIGHT
TZOFFSETFROM:-0800
TZOFFSETTO:-0700
TZNAME:PDT
DTSTART:20260308T100000
END:DAYLIGHT
BEGIN:STANDARD
TZOFFSETFROM:-0700
TZOFFSETTO:-0800
TZNAME:PST
DTSTART:20261101T090000
END:STANDARD
END:VTIMEZONE
BEGIN:VEVENT
DTSTART;TZID=America/Los_Angeles:20251010T170000
DTEND;TZID=America/Los_Angeles:20251010T220000
DTSTAMP:20260420T121734
CREATED:20251002T034603Z
LAST-MODIFIED:20251002T034603Z
UID:10000510-1760115600-1760133600@elprograma.org
SUMMARY:Dining with Survivors Series: Don Ladis Taco Shop
DESCRIPTION:  \nJoin us for an evening of food\, community\, and hope. Dining With Survivors brings people together to raise funds and gather essential supplies for survivors of domestic violence as they rebuild their lives in safety. \nA portion of the proceeds will go directly to our UNICA program to fund survivor support services. \nIn-Kind Donations are Welcome! \n\nBaby items\nPads & Tampons\nHygiene items\,\nNew undergarments & socks\nCash\n\nThank you to Don Ladis Taco Shop! \nQuestions? Call us at (503) 232-4448 \n  \nEPHC is a culturally specific\, 501(c)3 organization serving the community since 1982. Our mission is to “advance racial equity and social justice through the power of our Latine culture\, community\, and self-determination.
URL:https://elprograma.org/event/dining-with-survivors-series-don-ladis-taco-shop/
LOCATION:Jumbo Burger\, 5205 SE Foster Rd.\, Portland\, OR\, 97206\, United States
CATEGORIES:Community Events,Fundraisers
ATTACH;FMTTYPE=image/png:https://elprograma.org/wp-content/uploads/2025/10/Don-Ladis_ENG.png
END:VEVENT
END:VCALENDAR