BEGIN:VCALENDAR
VERSION:2.0
PRODID:-//El Programa Hispano Católico - ECPv6.15.20//NONSGML v1.0//EN
CALSCALE:GREGORIAN
METHOD:PUBLISH
X-WR-CALNAME:El Programa Hispano Católico
X-ORIGINAL-URL:https://elprograma.org
X-WR-CALDESC:Events for El Programa Hispano Católico
REFRESH-INTERVAL;VALUE=DURATION:PT1H
X-Robots-Tag:noindex
X-PUBLISHED-TTL:PT1H
BEGIN:VTIMEZONE
TZID:America/Los_Angeles
BEGIN:DAYLIGHT
TZOFFSETFROM:-0800
TZOFFSETTO:-0700
TZNAME:PDT
DTSTART:20230312T100000
END:DAYLIGHT
BEGIN:STANDARD
TZOFFSETFROM:-0700
TZOFFSETTO:-0800
TZNAME:PST
DTSTART:20231105T090000
END:STANDARD
BEGIN:DAYLIGHT
TZOFFSETFROM:-0800
TZOFFSETTO:-0700
TZNAME:PDT
DTSTART:20240310T100000
END:DAYLIGHT
BEGIN:STANDARD
TZOFFSETFROM:-0700
TZOFFSETTO:-0800
TZNAME:PST
DTSTART:20241103T090000
END:STANDARD
BEGIN:DAYLIGHT
TZOFFSETFROM:-0800
TZOFFSETTO:-0700
TZNAME:PDT
DTSTART:20250309T100000
END:DAYLIGHT
BEGIN:STANDARD
TZOFFSETFROM:-0700
TZOFFSETTO:-0800
TZNAME:PST
DTSTART:20251102T090000
END:STANDARD
END:VTIMEZONE
BEGIN:VEVENT
DTSTART;TZID=America/Los_Angeles:20240923T153000
DTEND;TZID=America/Los_Angeles:20240923T183000
DTSTAMP:20260425T123240
CREATED:20240709T023035Z
LAST-MODIFIED:20240709T023035Z
UID:10000391-1727105400-1727116200@elprograma.org
SUMMARY:MultCo Mobile Health Clinic visits El Programa Hispano
DESCRIPTION:Bringing Healthcare to our Community \nEl Programa Hispano invites you to visit the Multnomah County mobile Community Health van which offers high quality healthcare accessible to everyone in our community. Their medical group is dedicated to providing a variety of services with compassionate care in a comfortable setting on a walk-in basis. \nThese are some of the services: \n\nComprehensive Medical Care\nDental Cleanings\nLimited on-site lab testing\nLimited prescription dispensing\nLimited Vaccines for adults\, such as:\n\nHep A\nHep B\nTdap (Tetanus)\nFlu\nPneumonia\n*Coming Soon: COVID\n\n\n\nCome visit the clinic located at 333 SE 223rd Ave\, Gresham OR 97030 \nWhen: Every 2nd and 4th Tuesday of the month \nTime: 3:30 – 6:30pm \n  \n\n¡Traemos la Salud a nuestra Comunidad! \nEl Programa Hispano le invita a visitar el centro de salud móvil del Condado de Multnomah el cual ofrece atención medica de alta calidad y accesible para todos en nuestra comunidad. El grupo medico está dedicado a brindar una amplia gama de atención compasiva en un entorno cómodo y sin necesidad de tener cita. \nEstos son algunos de los servicios disponibles: \n\nAtención Medica Integral\nLimpiezas dentales\nAnálisis de laboratorio limitados\nDespacho limitado de medicamentos recetados\nVacunas Limitadas para adultos\, como:\n\nHep A\nHep B\nTdap (Tétano)\nInfluenza\nNeumonía\n*Próximamente COVID\n\n\n\nLos esperamos en nuestra oficina\, localizada en: 333 SE 223rd Ave\, Gresham OR 97030 \nCuando: Y cada segundo y cuarto martes del mes\n \nHorario: 3:30 – 6:30pm \n  \nBrought to you by | Traido gracias a:
URL:https://elprograma.org/event/multco-mobile-health-clinic-visits-el-programa-hispano-2/2024-09-23/
LOCATION:El Programa Hispano Office\, 333 Southeast 223rd Avenue\, #100\, Gresham\, OR\, 97030\, United States
CATEGORIES:Community Events
ATTACH;FMTTYPE=image/png:https://elprograma.org/wp-content/uploads/2024/04/Movil-clinic_website-header_02.2024-1.png
END:VEVENT
BEGIN:VEVENT
DTSTART;TZID=America/Los_Angeles:20240923T160000
DTEND;TZID=America/Los_Angeles:20240923T170000
DTSTAMP:20260425T123240
CREATED:20240726T001549Z
LAST-MODIFIED:20240726T001549Z
UID:10000171-1727107200-1727110800@elprograma.org
SUMMARY:Floyd Light Middle School Food Pantry
DESCRIPTION:Stop by Floyd Light Middle School inside the cafeteria for free\, fresh\, and healthy food for your family every 2nd and 4th Monday of each month.\nShopping at the pantry is easy:\n• Please bring your own bags\n• No identification or income verification materials required\n• Anyone is welcome to shop for the family \nQuestions? Please call or text Giovanni Barranco at (971) 220-0930 \nProudly Supported by:
URL:https://elprograma.org/event/floyd-light-middle-school-food-pantry/2024-09-23/
LOCATION:OR
CATEGORIES:Community Events
ATTACH;FMTTYPE=image/png:https://elprograma.org/wp-content/uploads/2024/07/Floyd-Light-ENG.png
END:VEVENT
BEGIN:VEVENT
DTSTART;TZID=America/Los_Angeles:20240925T170000
DTEND;TZID=America/Los_Angeles:20240925T190000
DTSTAMP:20260425T123240
CREATED:20240801T003504Z
LAST-MODIFIED:20240801T013145Z
UID:10000240-1727283600-1727290800@elprograma.org
SUMMARY:Nutrition Wednesday "Miércoles de Nutrición"
DESCRIPTION:Join our “Miércoles de Nutrición” Nutrition Wednesday classes\, a project between El Programa Hispano\, OSU Extension Services\, and FoodHero. These classes will be held every Wednesday\, beginning September 4th through October 30th\, from 5pm to 7pm. \nCome and learn with us: \n\nHow to combine different foods and physical activity for good health.\nHow to make better food purchases.\nHow to prepare healthy meals and snacks for your family.\nHow to keep food healthy for your family\n\nFor more information or to reserve your spot\, contact Gregorio Chanocua at (503) 766-8297 \n \nBrought to you by:\n           
URL:https://elprograma.org/event/nutrition-wednesday/2024-09-25/
LOCATION:El Programa Hispano Office\, 333 Southeast 223rd Avenue\, #100\, Gresham\, OR\, 97030\, United States
CATEGORIES:Community Events
ATTACH;FMTTYPE=image/png:https://elprograma.org/wp-content/uploads/2024/07/Miercoles-de-nutricion_website-header.png
END:VEVENT
END:VCALENDAR