BEGIN:VCALENDAR
VERSION:2.0
PRODID:-//El Programa Hispano Católico - ECPv6.15.20//NONSGML v1.0//EN
CALSCALE:GREGORIAN
METHOD:PUBLISH
X-ORIGINAL-URL:https://elprograma.org
X-WR-CALDESC:Events for El Programa Hispano Católico
REFRESH-INTERVAL;VALUE=DURATION:PT1H
X-Robots-Tag:noindex
X-PUBLISHED-TTL:PT1H
BEGIN:VTIMEZONE
TZID:America/Los_Angeles
BEGIN:DAYLIGHT
TZOFFSETFROM:-0800
TZOFFSETTO:-0700
TZNAME:PDT
DTSTART:20240310T100000
END:DAYLIGHT
BEGIN:STANDARD
TZOFFSETFROM:-0700
TZOFFSETTO:-0800
TZNAME:PST
DTSTART:20241103T090000
END:STANDARD
BEGIN:DAYLIGHT
TZOFFSETFROM:-0800
TZOFFSETTO:-0700
TZNAME:PDT
DTSTART:20250309T100000
END:DAYLIGHT
BEGIN:STANDARD
TZOFFSETFROM:-0700
TZOFFSETTO:-0800
TZNAME:PST
DTSTART:20251102T090000
END:STANDARD
BEGIN:DAYLIGHT
TZOFFSETFROM:-0800
TZOFFSETTO:-0700
TZNAME:PDT
DTSTART:20260308T100000
END:DAYLIGHT
BEGIN:STANDARD
TZOFFSETFROM:-0700
TZOFFSETTO:-0800
TZNAME:PST
DTSTART:20261101T090000
END:STANDARD
END:VTIMEZONE
BEGIN:VEVENT
DTSTART;TZID=America/Los_Angeles:20250310T160000
DTEND;TZID=America/Los_Angeles:20250310T170000
DTSTAMP:20260425T142858
CREATED:20250113T204330Z
LAST-MODIFIED:20250113T204959Z
UID:10000330-1741622400-1741626000@elprograma.org
SUMMARY:Floyd Light Middle School Food Pantry
DESCRIPTION:Stop by Floyd Light Middle School inside the cafeteria for free\, fresh\, and healthy food for your family every 2nd and 4th Monday of each month. \nShopping at the pantry is easy:\n• Please bring your own bags\n• No identification or income verification materials required\n• Anyone is welcome to shop for the family \nQuestions? Please call or text Giovanni Barranco at (971) 220-0930 \nProudly Supported by:
URL:https://elprograma.org/event/floyd-light-middle-school-food-pantry-2025/2025-03-10/
LOCATION:OR
CATEGORIES:Community Events
ATTACH;FMTTYPE=image/png:https://elprograma.org/wp-content/uploads/2025/01/Floyd-Light-ENG.png
END:VEVENT
BEGIN:VEVENT
DTSTART;TZID=America/Los_Angeles:20250311T153000
DTEND;TZID=America/Los_Angeles:20250311T183000
DTSTAMP:20260425T142858
CREATED:20250212T192357Z
LAST-MODIFIED:20250212T192638Z
UID:10000054-1741707000-1741717800@elprograma.org
SUMMARY:MultCo Mobile Health Clinic visits El Programa Hispano
DESCRIPTION:Bringing Healthcare to our Community \nEl Programa Hispano invites you to visit the Multnomah County mobile Community Health van which offers high quality healthcare accessible to everyone in our community. Their medical group is dedicated to providing a variety of services with compassionate care in a comfortable setting on a walk-in basis. \nThese are some of the services: \n\nComprehensive Medical Care\nDental Cleanings\nLimited on-site lab testing\nLimited prescription dispensing\nLimited Vaccines for adults\, such as:\n\nHep A\nHep B\nTdap (Tetanus)\nFlu\nPneumonia\n*Coming Soon: COVID\n\n\n\nCome visit the clinic located at: 333 SE 223rd Ave\, Gresham OR 97030 \nWhen: Every 2nd and 4th Tuesday of the month \nTime: 3:30 – 6:30pm \n  \nBrought to you by
URL:https://elprograma.org/event/multco-mobile-health-clinic-visits-el-programa-hispano-3/2025-03-11/
LOCATION:El Programa Hispano Office\, 333 Southeast 223rd Avenue\, #100\, Gresham\, OR\, 97030\, United States
CATEGORIES:Community Events
ATTACH;FMTTYPE=image/png:https://elprograma.org/wp-content/uploads/2024/04/Movil-clinic_website-header_02.2024-1.png
END:VEVENT
BEGIN:VEVENT
DTSTART;TZID=America/Los_Angeles:20250312T160000
DTEND;TZID=America/Los_Angeles:20250312T173000
DTSTAMP:20260425T142858
CREATED:20250113T194011Z
LAST-MODIFIED:20250113T194011Z
UID:10000279-1741795200-1741800600@elprograma.org
SUMMARY:Highland Elementary Free Food Market
DESCRIPTION:Visit our Free Food Market at Highland Elementary School every Wednesday on the 2nd week of each month to access free\, fresh\, and healthy fruits and vegetables and some pantry staples for you and your family. \nShopping at our Free Food Market is simple:\n• This food is free and everyone is welcome\n• No ID\, name\, or address needed\n• Please bring bags or boxes \nQuestions? Contact: Kaleb Meiers at kmeiers@elprograma.org or (503) 405-5100 \nProudly Supported by:\n 
URL:https://elprograma.org/event/highland-elementary-free-food-market/2025-03-12/
LOCATION:Highland Elementary School\, 295 NE 24th St\, Gresham\, 97030\, United States
CATEGORIES:Community Events
ATTACH;FMTTYPE=image/png:https://elprograma.org/wp-content/uploads/2024/07/Highland-ENG.png
END:VEVENT
BEGIN:VEVENT
DTSTART;TZID=America/Los_Angeles:20250315T130000
DTEND;TZID=America/Los_Angeles:20250315T143000
DTSTAMP:20260425T142858
CREATED:20250107T202614Z
LAST-MODIFIED:20250313T204226Z
UID:10000261-1742043600-1742049000@elprograma.org
SUMMARY:[VIRTUAL EVENT] Annual Volunteer Recruitment Event
DESCRIPTION:We invite you to our Annual Volunteer Recruitment Event!\nJoin us and discover who we are\, what we do\, and the impact we make in the community. At El Programa Hispano\, we believe in the power of volunteerism to create positive change. Whether you’re a seasoned volunteer or someone looking to give back for the first time\, there’s a place for you in our community. \nUPDATE: This event has been moved to a virtual meeting via Zoom\, please let us know by emailing us at volunteers@elprograma.orgfor more information and to RSVP
URL:https://elprograma.org/event/annual-volunteer-recruitment-event/
LOCATION:https://elprograma.org/event/annual-volunteer-recruitment-event/
CATEGORIES:Community Events
ATTACH;FMTTYPE=image/png:https://elprograma.org/wp-content/uploads/2025/01/Annual-Volunteer-event-English-2.png
END:VEVENT
END:VCALENDAR