BEGIN:VCALENDAR
VERSION:2.0
PRODID:-//El Programa Hispano Católico - ECPv6.15.20//NONSGML v1.0//EN
CALSCALE:GREGORIAN
METHOD:PUBLISH
X-WR-CALNAME:El Programa Hispano Católico
X-ORIGINAL-URL:https://elprograma.org
X-WR-CALDESC:Events for El Programa Hispano Católico
REFRESH-INTERVAL;VALUE=DURATION:PT1H
X-Robots-Tag:noindex
X-PUBLISHED-TTL:PT1H
BEGIN:VTIMEZONE
TZID:America/Los_Angeles
BEGIN:DAYLIGHT
TZOFFSETFROM:-0800
TZOFFSETTO:-0700
TZNAME:PDT
DTSTART:20230312T100000
END:DAYLIGHT
BEGIN:STANDARD
TZOFFSETFROM:-0700
TZOFFSETTO:-0800
TZNAME:PST
DTSTART:20231105T090000
END:STANDARD
BEGIN:DAYLIGHT
TZOFFSETFROM:-0800
TZOFFSETTO:-0700
TZNAME:PDT
DTSTART:20240310T100000
END:DAYLIGHT
BEGIN:STANDARD
TZOFFSETFROM:-0700
TZOFFSETTO:-0800
TZNAME:PST
DTSTART:20241103T090000
END:STANDARD
BEGIN:DAYLIGHT
TZOFFSETFROM:-0800
TZOFFSETTO:-0700
TZNAME:PDT
DTSTART:20250309T100000
END:DAYLIGHT
BEGIN:STANDARD
TZOFFSETFROM:-0700
TZOFFSETTO:-0800
TZNAME:PST
DTSTART:20251102T090000
END:STANDARD
BEGIN:DAYLIGHT
TZOFFSETFROM:-0800
TZOFFSETTO:-0700
TZNAME:PDT
DTSTART:20260308T100000
END:DAYLIGHT
BEGIN:STANDARD
TZOFFSETFROM:-0700
TZOFFSETTO:-0800
TZNAME:PST
DTSTART:20261101T090000
END:STANDARD
BEGIN:DAYLIGHT
TZOFFSETFROM:-0800
TZOFFSETTO:-0700
TZNAME:PDT
DTSTART:20270314T100000
END:DAYLIGHT
BEGIN:STANDARD
TZOFFSETFROM:-0700
TZOFFSETTO:-0800
TZNAME:PST
DTSTART:20271107T090000
END:STANDARD
END:VTIMEZONE
BEGIN:VEVENT
DTSTART;TZID=America/Los_Angeles:20260324T170000
DTEND;TZID=America/Los_Angeles:20260324T230000
DTSTAMP:20260423T112839
CREATED:20260127T192510Z
LAST-MODIFIED:20260210T191300Z
UID:10000756-1774371600-1774393200@elprograma.org
SUMMARY:EPHC Friends & Family Night at McMenamins Power Station Pub
DESCRIPTION:Join us for a feel-good evening of food\, drinks\, and community at McMenamins Power Station Pub! Bring your friends\, family\, coworkers\, and chosen family to hang out\, enjoy great eats\, and support a cause close to home. \n📅 When: Tuesday\, March 24\, 2026\n⏰ Time: 5:00 PM – 11:00 PM\n📍 Where: Power Station Pub at McMenamins Edgefield \nThe best part? McMenamins will donate 50% of all sales from the evening to El Programa Hispano Católico. Every bite and sip helps support critical\, culturally responsive services for our community across the Portland Metro Area. \nCome for dinner\, stay for dessert\, or just stop by for a drink\, every visit makes an impact. We can’t wait to gather\, connect\, and celebrate community with you! \nRegistration\nRegistration is optional for this event\, however it will help us have an idea of how many people we should expect. \nClick Here to RSVP!\n  \nInformation\nIf you have any questions or concerns\, please contact us at (503) 669-8350 or CommunityGiving@elprograma.org. \n  \nThank you to McMenamins Edgefield for their support!
URL:https://elprograma.org/event/friends-family-night-at-mcmenamins-power-station-pub/
LOCATION:Power Station Pub\, McMenamins Edgefield\, 2126 SW Halsey St\, Troutdale\, 97060\, United States
CATEGORIES:Fundraisers
ATTACH;FMTTYPE=image/png:https://elprograma.org/wp-content/uploads/2026/01/2026-McMinnamins-FF-Night_-event-header.png
END:VEVENT
BEGIN:VEVENT
DTSTART;TZID=America/Los_Angeles:20251024T170000
DTEND;TZID=America/Los_Angeles:20251024T220000
DTSTAMP:20260423T112839
CREATED:20251002T185344Z
LAST-MODIFIED:20251027T172047Z
UID:10000514-1761325200-1761343200@elprograma.org
SUMMARY:**CANCELLED** UNICA Karaoke Night @ Fairview Food Plaza
DESCRIPTION:**Cancelled** \nJoin us for an unforgettable evening of music\, laughter\, and community—all for a powerful cause. Every song sung helps shine a light on the resilience of Domestic Violence survivors and support the critical services UNICA provides as they rebuild their lives in safety. \nIn-Kind Donations are Welcome! \n\nBaby items\nPads & Tampons\nHygiene items\,\nNew undergarments & socks\nCash\n\nThank you to Fairview Food Plaza! \nQuestions? Call us at (503) 232-4448 \n  \nEPHC is a culturally specific\, 501(c)3 organization serving the community since 1982. Our mission is to “advance racial equity and social justice through the power of our Latine culture\, community\, and self-determination.
URL:https://elprograma.org/event/unica-karaoke-night-fairview-food-plaza/
LOCATION:Fairview Food Plaza\, 22320 NE Halsey St.\, Fairview\, OR\, 97024\, United States
CATEGORIES:Community Events,Fundraisers
END:VEVENT
BEGIN:VEVENT
DTSTART;TZID=America/Los_Angeles:20251023T150000
DTEND;TZID=America/Los_Angeles:20251023T210000
DTSTAMP:20260423T112839
CREATED:20251002T180628Z
LAST-MODIFIED:20251002T181117Z
UID:10000512-1761231600-1761253200@elprograma.org
SUMMARY:Dining with Survivors Series: Taquería Mi Jalisco
DESCRIPTION:Join us for an evening of food\, community\, and hope. Dining With Survivors brings people together to raise funds and gather essential supplies for survivors of domestic violence as they rebuild their lives in safety. \nSome proceeds will go directly to our UNICA program to fund survivor support services. \nIn-Kind Donations are Welcome! \n\nBaby items\nPads & Tampons\nHygiene items\,\nNew undergarments & socks\nCash\n\nThank you to Taqueria Mi Jalisco! \nQuestions? Call us at (503) 232-4448 \n  \nEPHC is a culturally specific\, 501(c)3 organization serving the community since 1982. Our mission is to “advance racial equity and social justice through the power of our Latine culture\, community\, and self-determination.
URL:https://elprograma.org/event/dining-with-survivors-series-taqueria-mi-jalisco/
LOCATION:Taqueria Mi Jalisco\, 1255 N Main Avenue\, Gresham\, OR\, 97030\, United States
CATEGORIES:Community Events,Fundraisers
END:VEVENT
BEGIN:VEVENT
DTSTART;TZID=America/Los_Angeles:20251015T150000
DTEND;TZID=America/Los_Angeles:20251015T210000
DTSTAMP:20260423T112839
CREATED:20251002T022639Z
LAST-MODIFIED:20251002T022639Z
UID:10000508-1760540400-1760562000@elprograma.org
SUMMARY:Dining with Survivors Series: Jumbo Burger
DESCRIPTION:Join us for an evening of food\, community\, and hope. Dining With Survivors brings people together to raise funds and gather essential supplies for survivors of domestic violence as they rebuild their lives in safety. \n30% of all proceeds will go directly to our UNICA program to fund survivor support services. \nIn-Kind Donations are Welcome! \n\nBaby items\nPads & Tampons\nHygiene items\,\nNew undergarments & socks\nCash\n\nThank you to Jumbo Burger! \nQuestions? Call us at (503) 232-4448 \n  \nEPHC is a culturally specific\, 501(c)3 organization serving the community since 1982. Our mission is to “advance racial equity and social justice through the power of our Latine culture\, community\, and self-determination.
URL:https://elprograma.org/event/dining-with-survivors-series-jumbo-burger-10-15/
LOCATION:Jumbo Burger\, 5205 SE Foster Rd.\, Portland\, OR\, 97206\, United States
CATEGORIES:Community Events,Fundraisers
ATTACH;FMTTYPE=image/png:https://elprograma.org/wp-content/uploads/2025/10/DVAM-Dining-at-Jumbo-burger_-event-header_10.15.2025.png
END:VEVENT
BEGIN:VEVENT
DTSTART;TZID=America/Los_Angeles:20251010T170000
DTEND;TZID=America/Los_Angeles:20251010T220000
DTSTAMP:20260423T112839
CREATED:20251002T034603Z
LAST-MODIFIED:20251002T034603Z
UID:10000510-1760115600-1760133600@elprograma.org
SUMMARY:Dining with Survivors Series: Don Ladis Taco Shop
DESCRIPTION:  \nJoin us for an evening of food\, community\, and hope. Dining With Survivors brings people together to raise funds and gather essential supplies for survivors of domestic violence as they rebuild their lives in safety. \nA portion of the proceeds will go directly to our UNICA program to fund survivor support services. \nIn-Kind Donations are Welcome! \n\nBaby items\nPads & Tampons\nHygiene items\,\nNew undergarments & socks\nCash\n\nThank you to Don Ladis Taco Shop! \nQuestions? Call us at (503) 232-4448 \n  \nEPHC is a culturally specific\, 501(c)3 organization serving the community since 1982. Our mission is to “advance racial equity and social justice through the power of our Latine culture\, community\, and self-determination.
URL:https://elprograma.org/event/dining-with-survivors-series-don-ladis-taco-shop/
LOCATION:Jumbo Burger\, 5205 SE Foster Rd.\, Portland\, OR\, 97206\, United States
CATEGORIES:Community Events,Fundraisers
ATTACH;FMTTYPE=image/png:https://elprograma.org/wp-content/uploads/2025/10/Don-Ladis_ENG.png
END:VEVENT
BEGIN:VEVENT
DTSTART;TZID=America/Los_Angeles:20251005T110000
DTEND;TZID=America/Los_Angeles:20251005T210000
DTSTAMP:20260423T112839
CREATED:20251002T021210Z
LAST-MODIFIED:20251002T023151Z
UID:10000506-1759662000-1759698000@elprograma.org
SUMMARY:Dining with Survivors Series: Jumbo Burger
DESCRIPTION:Join us for an evening of food\, community\, and hope. Dining With Survivors brings people together to raise funds and gather essential supplies for survivors of domestic violence as they rebuild their lives in safety. \n30% of all proceeds will go directly to our UNICA program to fund survivor support services. \nIn-Kind Donations are Welcome! \n\nBaby items\nPads & Tampons\nHygiene items\,\nNew undergarments & socks\nCash\n\nThank you to Jumbo Burger! \nQuestions? Call us at (503) 232-4448 \n  \nEPHC is a culturally specific\, 501(c)3 organization serving the community since 1982. Our mission is to “advance racial equity and social justice through the power of our Latine culture\, community\, and self-determination.
URL:https://elprograma.org/event/dining-with-survivors-series-jumbo-burger/
LOCATION:Jumbo Burger\, 5205 SE Foster Rd.\, Portland\, OR\, 97206\, United States
CATEGORIES:Community Events,Fundraisers
ATTACH;FMTTYPE=image/png:https://elprograma.org/wp-content/uploads/2025/10/DVAM-Dining-at-Jumbo-burger_-event-header_10.05_ENG.png
END:VEVENT
BEGIN:VEVENT
DTSTART;TZID=America/Los_Angeles:20240810T083000
DTEND;TZID=America/Los_Angeles:20240810T120000
DTSTAMP:20260423T112839
CREATED:20240301T040357Z
LAST-MODIFIED:20240723T224121Z
UID:10000019-1723278600-1723291200@elprograma.org
SUMMARY:¡Viva la Vida! Walk & 5k Run
DESCRIPTION:Join El Programa Hispano for our first annual ¡Viva la Vida! Walk & 5K Run event! \nThis event will bring the community together to engage in physical activity\, connect with nature\, and raise awareness about health disparities affecting Latine families. \nProceeds from the event will go to support our Community Wellness and UNICA programs\, which offer services to seniors 60 and older\, families experiencing food insecurity\, and survivors of domestic violence\, sexual assault and human trafficking. \nRegister Today!\n \n  \nEvent Day Information\n8:30am: 1 Mile Route – ADA accessible and recommended for seniors and/or families with small children.  \n9:30am: 5K Walk & Run Route – Recommended for adults and youth 12 & older. \nThe event will include informational booths\, a kid’s scavenger hunt\, yoga and tai chi classes\, raffle prizes\, & more! Each ticket includes an event t-shirt\, 1 raffle ticket\, and refreshments. Fees range from $25+ and will all go towards supporting our programs and services! Children 12 and under can participate for free! \n  \nEvent Sponsorship\nInterested in becoming a sponsor? We have sponsorship opportunities for this and other future events! \n \n \n  \n  \n  \n  \nVolunteers\nWe’re looking for Volunteers! If you are interested in volunteering for this event\, please email us at volunteers@elprograma.org or complete a Volunteer Interest Form \n  \nDonate to our Raffle\nWe’re looking for in-kind donations of products or services (including discount coupons\, gift certificates\, etc.) for our raffle and volunteer appreciation. If you would like to donate and receive promotion through our communications and our event for your business\, please contact our Development team at communications@elprograma.org or (503) 669-8350. \n  \nTable at our Event\nWe invite local organizations\, business\, and government entities to join us with an informational booth at the event to share you products/services with our communities. If interested in tabling\, please COMPLETE THIS FORM and a member of our team will reach out with more information. \n  \nThanks to our Sponsors\nPlatinum Sponsors\n                             \n  \nGold Sponsors\n \n \n  \nSilver Sponsors\n \n  \nBronze Sponsors\nLegacy Health \nClackamas County \nCatholic Charities of Oregon \n  \nAnd our Raffle Donors\nBreath Wellness Company \nColumbia Sportswear \nKingPins \nMcMenamins \nPortland Timbers \nEnchanted Forest \nAl’s Garden Center \n  \nCourse Information\nROUTE 1:  \nThis route will start at the park’s main shelter at 8:30am and move through main activity areas including informational booths and kid’s play areas\, and loop around the Little League Baseball field near the Springwater Corridor Trail. The route will need to be completed twice to complete the full 1 mile loop. Educational signage will be posted throughout the route for participants to learn more about health issues affecting the Latine community and opportunities to improve health outcomes in our communities. \n\n \n  \nROUTE 2: \nThis route will start at the entrance of the Springwater Corridor trail at 9:30am. Participants will walk/run East for 1.5 miles to Hogan Road where restrooms and refreshments will be available\, and return back on the same trail to complete the 3 mile loop. Educational signage will be posted throughout the route for participants to learn more about health issues affecting the Latine community and opportunities to improve health outcomes in our communities. \n\n \n  \nMore Information\nFor more information and questions\, please contact our Development team at communications@elprograma.org or (503) 669-8350
URL:https://elprograma.org/event/2024-viva-la-vida-walkathon/
LOCATION:Gresham Main City Park\, 219 S Main Avenue\, Gresham\, OR\, 97080\, United States
CATEGORIES:Fundraisers
ATTACH;FMTTYPE=image/png:https://elprograma.org/wp-content/uploads/2024/02/1-2.png
END:VEVENT
END:VCALENDAR