BEGIN:VCALENDAR
VERSION:2.0
PRODID:-//El Programa Hispano Católico - ECPv6.15.20//NONSGML v1.0//EN
CALSCALE:GREGORIAN
METHOD:PUBLISH
X-WR-CALNAME:El Programa Hispano Católico
X-ORIGINAL-URL:https://elprograma.org
X-WR-CALDESC:Events for El Programa Hispano Católico
REFRESH-INTERVAL;VALUE=DURATION:PT1H
X-Robots-Tag:noindex
X-PUBLISHED-TTL:PT1H
BEGIN:VTIMEZONE
TZID:America/Los_Angeles
BEGIN:DAYLIGHT
TZOFFSETFROM:-0800
TZOFFSETTO:-0700
TZNAME:PDT
DTSTART:20230312T100000
END:DAYLIGHT
BEGIN:STANDARD
TZOFFSETFROM:-0700
TZOFFSETTO:-0800
TZNAME:PST
DTSTART:20231105T090000
END:STANDARD
BEGIN:DAYLIGHT
TZOFFSETFROM:-0800
TZOFFSETTO:-0700
TZNAME:PDT
DTSTART:20240310T100000
END:DAYLIGHT
BEGIN:STANDARD
TZOFFSETFROM:-0700
TZOFFSETTO:-0800
TZNAME:PST
DTSTART:20241103T090000
END:STANDARD
BEGIN:DAYLIGHT
TZOFFSETFROM:-0800
TZOFFSETTO:-0700
TZNAME:PDT
DTSTART:20250309T100000
END:DAYLIGHT
BEGIN:STANDARD
TZOFFSETFROM:-0700
TZOFFSETTO:-0800
TZNAME:PST
DTSTART:20251102T090000
END:STANDARD
END:VTIMEZONE
BEGIN:VEVENT
DTSTART;TZID=America/Los_Angeles:20241104T160000
DTEND;TZID=America/Los_Angeles:20241104T170000
DTSTAMP:20260425T145830
CREATED:20240726T001549Z
LAST-MODIFIED:20240726T001549Z
UID:10000174-1730736000-1730739600@elprograma.org
SUMMARY:Floyd Light Middle School Food Pantry
DESCRIPTION:Stop by Floyd Light Middle School inside the cafeteria for free\, fresh\, and healthy food for your family every 2nd and 4th Monday of each month.\nShopping at the pantry is easy:\n• Please bring your own bags\n• No identification or income verification materials required\n• Anyone is welcome to shop for the family \nQuestions? Please call or text Giovanni Barranco at (971) 220-0930 \nProudly Supported by:
URL:https://elprograma.org/event/floyd-light-middle-school-food-pantry/2024-11-04/
CATEGORIES:Community Events
ATTACH;FMTTYPE=image/png:https://elprograma.org/wp-content/uploads/2024/07/Floyd-Light-ENG.png
END:VEVENT
BEGIN:VEVENT
DTSTART;TZID=America/Los_Angeles:20241105T160000
DTEND;TZID=America/Los_Angeles:20241105T170000
DTSTAMP:20260425T145830
CREATED:20240725T202214Z
LAST-MODIFIED:20240725T202214Z
UID:10000164-1730822400-1730826000@elprograma.org
SUMMARY:East Gresham Food Pantry
DESCRIPTION:Stop by East Gresham Elementary School\, in the cafeteria\, to access for free\, fresh\, and healthy food for your family on the 1st and 3rd Tuesday of the month.\nShopping at the pantry is easy:\n• Please bring your own bags\n• No identification or income verification materials required\n• Anyone is welcome to shop for their family \nQuestions? Call or text Kaleb Meiers at (503) 405-5100 \nProudly Supported by:
URL:https://elprograma.org/event/east-gresham-food-pantry/2024-11-05/
LOCATION:East Gresham Elementary School\, 900 SE 5th St\, Gresham\, OR\, 97080\, United States
CATEGORIES:Community Events
ATTACH;FMTTYPE=image/png:https://elprograma.org/wp-content/uploads/2024/07/E-Gresham-ENG.png
END:VEVENT
BEGIN:VEVENT
DTSTART;TZID=America/Los_Angeles:20241107T160000
DTEND;TZID=America/Los_Angeles:20241107T173000
DTSTAMP:20260425T145830
CREATED:20240725T194831Z
LAST-MODIFIED:20240726T000305Z
UID:10000151-1730995200-1731000600@elprograma.org
SUMMARY:Highland Elementary Free Food Market
DESCRIPTION:Visit our Free Food Market at Highland Elementary School on the 2nd week of each month to access free\, fresh\, and healthy fruits and vegetables and\nsome pantry staples for you and your family. \nShopping at our Free Food Market is simple:\n• This food is free and everyone is welcome\n• No ID\, name\, or address needed\n• Please bring bags or boxes \nQuestions? Contact: Kaleb Meiers at kmeiers@elprograma.org or (503) 405-5100 \nProudly Supported by:\n \n 
URL:https://elprograma.org/event/highland-free-food-market/2024-11-07/
LOCATION:Highland Elementary School\, 295 NE 24th St\, Gresham\, 97030\, United States
CATEGORIES:Community Events
ATTACH;FMTTYPE=image/png:https://elprograma.org/wp-content/uploads/2024/07/Highland-ENG.png
END:VEVENT
BEGIN:VEVENT
DTSTART;TZID=America/Los_Angeles:20241107T160000
DTEND;TZID=America/Los_Angeles:20241107T173000
DTSTAMP:20260425T145830
CREATED:20240725T200516Z
LAST-MODIFIED:20240725T200844Z
UID:10000156-1730995200-1731000600@elprograma.org
SUMMARY:Wilkes Elementary Free Food Market
DESCRIPTION:Visit our Free Food Market at Wilkes Elementary School on the 1st Thursday of each month to access free\, fresh\, and healthy fruits and vegetables and\nsome pantry staples for you and your family. \nShopping at our Free Food Market is simple:\n• This food is free and everyone is welcome\n• No ID\, name\, or address needed\n• Please bring bags or boxes \nQuestions? Call or text Giovanni Barranco at (971) 220-0930 \nProudly Supported by:
URL:https://elprograma.org/event/8468/2024-11-07/
LOCATION:Wilkes Elementary School\, 17020 NE Wilkes Rd\, Portland\, OR\, 97230\, United States
CATEGORIES:Community Events
ATTACH;FMTTYPE=image/png:https://elprograma.org/wp-content/uploads/2024/07/Wilkes-ENG.png
END:VEVENT
END:VCALENDAR