BEGIN:VCALENDAR
VERSION:2.0
PRODID:-//El Programa Hispano Católico - ECPv6.15.20//NONSGML v1.0//EN
CALSCALE:GREGORIAN
METHOD:PUBLISH
X-ORIGINAL-URL:https://elprograma.org
X-WR-CALDESC:Events for El Programa Hispano Católico
REFRESH-INTERVAL;VALUE=DURATION:PT1H
X-Robots-Tag:noindex
X-PUBLISHED-TTL:PT1H
BEGIN:VTIMEZONE
TZID:America/Los_Angeles
BEGIN:DAYLIGHT
TZOFFSETFROM:-0800
TZOFFSETTO:-0700
TZNAME:PDT
DTSTART:20240310T100000
END:DAYLIGHT
BEGIN:STANDARD
TZOFFSETFROM:-0700
TZOFFSETTO:-0800
TZNAME:PST
DTSTART:20241103T090000
END:STANDARD
BEGIN:DAYLIGHT
TZOFFSETFROM:-0800
TZOFFSETTO:-0700
TZNAME:PDT
DTSTART:20250309T100000
END:DAYLIGHT
BEGIN:STANDARD
TZOFFSETFROM:-0700
TZOFFSETTO:-0800
TZNAME:PST
DTSTART:20251102T090000
END:STANDARD
BEGIN:DAYLIGHT
TZOFFSETFROM:-0800
TZOFFSETTO:-0700
TZNAME:PDT
DTSTART:20260308T100000
END:DAYLIGHT
BEGIN:STANDARD
TZOFFSETFROM:-0700
TZOFFSETTO:-0800
TZNAME:PST
DTSTART:20261101T090000
END:STANDARD
END:VTIMEZONE
BEGIN:VEVENT
DTSTART;TZID=America/Los_Angeles:20250107T160000
DTEND;TZID=America/Los_Angeles:20250107T173000
DTSTAMP:20260425T050723
CREATED:20250113T203241Z
LAST-MODIFIED:20250620T194356Z
UID:10000304-1736265600-1736271000@elprograma.org
SUMMARY:East Gresham Food Pantry
DESCRIPTION:Stop by East Gresham Elementary School to access for free\, fresh\, and healthy food for your family every Tuesday of the month (Summer 2025).\nShopping at the pantry is easy:\n• Please bring your own bags\n• No identification or income verification materials required\n• Anyone is welcome to shop for their family \nQuestions? Call or text Kaleb Meiers at (503) 405-5100 \nProudly Supported by:
URL:https://elprograma.org/event/east-gresham-food-pantry-2/2025-01-07/
LOCATION:East Gresham Elementary School\, 900 SE 5th St\, Gresham\, OR\, 97080\, United States
CATEGORIES:Community Events
ATTACH;FMTTYPE=image/png:https://elprograma.org/wp-content/uploads/2024/07/E-Gresham-ENG.png
END:VEVENT
BEGIN:VEVENT
DTSTART;TZID=America/Los_Angeles:20250108T160000
DTEND;TZID=America/Los_Angeles:20250108T173000
DTSTAMP:20260425T050723
CREATED:20250113T194011Z
LAST-MODIFIED:20250113T194011Z
UID:10000277-1736352000-1736357400@elprograma.org
SUMMARY:Highland Elementary Free Food Market
DESCRIPTION:Visit our Free Food Market at Highland Elementary School every Wednesday on the 2nd week of each month to access free\, fresh\, and healthy fruits and vegetables and some pantry staples for you and your family. \nShopping at our Free Food Market is simple:\n• This food is free and everyone is welcome\n• No ID\, name\, or address needed\n• Please bring bags or boxes \nQuestions? Contact: Kaleb Meiers at kmeiers@elprograma.org or (503) 405-5100 \nProudly Supported by:\n 
URL:https://elprograma.org/event/highland-elementary-free-food-market/2025-01-08/
LOCATION:Highland Elementary School\, 295 NE 24th St\, Gresham\, 97030\, United States
CATEGORIES:Community Events
ATTACH;FMTTYPE=image/png:https://elprograma.org/wp-content/uploads/2024/07/Highland-ENG.png
END:VEVENT
BEGIN:VEVENT
DTSTART;TZID=America/Los_Angeles:20250109T160000
DTEND;TZID=America/Los_Angeles:20250109T173000
DTSTAMP:20260425T050723
CREATED:20250113T195614Z
LAST-MODIFIED:20250113T201400Z
UID:10000288-1736438400-1736443800@elprograma.org
SUMMARY:Wilkes Elementary Free Food Market
DESCRIPTION:Visit our Free Food Market at Wilkes Elementary School on the 1st Thursday of each month to access free\, fresh\, and healthy fruits and vegetables and some pantry staples for you and your family. \nShopping at our Free Food Market is simple:\n• This food is free and everyone is welcome\n• No ID\, name\, or address needed\n• Please bring bags or boxes \nQuestions? Call or text Giovanni Barranco at (971) 220-0930 or gbarranco@elprograma.org \nProudly Supported by:
URL:https://elprograma.org/event/wilkes-elementary-free-food-market/
LOCATION:Wilkes Elementary School\, 17020 NE Wilkes Rd\, Portland\, OR\, 97230\, United States
CATEGORIES:Community Events
ATTACH;FMTTYPE=image/png:https://elprograma.org/wp-content/uploads/2024/07/Wilkes-ENG.png
END:VEVENT
END:VCALENDAR