BEGIN:VCALENDAR
VERSION:2.0
PRODID:-//El Programa Hispano Católico - ECPv6.15.20//NONSGML v1.0//EN
CALSCALE:GREGORIAN
METHOD:PUBLISH
X-ORIGINAL-URL:https://elprograma.org
X-WR-CALDESC:Events for El Programa Hispano Católico
REFRESH-INTERVAL;VALUE=DURATION:PT1H
X-Robots-Tag:noindex
X-PUBLISHED-TTL:PT1H
BEGIN:VTIMEZONE
TZID:America/Los_Angeles
BEGIN:DAYLIGHT
TZOFFSETFROM:-0800
TZOFFSETTO:-0700
TZNAME:PDT
DTSTART:20240310T100000
END:DAYLIGHT
BEGIN:STANDARD
TZOFFSETFROM:-0700
TZOFFSETTO:-0800
TZNAME:PST
DTSTART:20241103T090000
END:STANDARD
BEGIN:DAYLIGHT
TZOFFSETFROM:-0800
TZOFFSETTO:-0700
TZNAME:PDT
DTSTART:20250309T100000
END:DAYLIGHT
BEGIN:STANDARD
TZOFFSETFROM:-0700
TZOFFSETTO:-0800
TZNAME:PST
DTSTART:20251102T090000
END:STANDARD
BEGIN:DAYLIGHT
TZOFFSETFROM:-0800
TZOFFSETTO:-0700
TZNAME:PDT
DTSTART:20260308T100000
END:DAYLIGHT
BEGIN:STANDARD
TZOFFSETFROM:-0700
TZOFFSETTO:-0800
TZNAME:PST
DTSTART:20261101T090000
END:STANDARD
END:VTIMEZONE
BEGIN:VEVENT
DTSTART;TZID=America/Los_Angeles:20250331T083000
DTEND;TZID=America/Los_Angeles:20250331T170000
DTSTAMP:20260425T164754
CREATED:20250113T220614Z
LAST-MODIFIED:20250319T182939Z
UID:10000264-1743409800-1743440400@elprograma.org
SUMMARY:2025 VOCES Conference
DESCRIPTION:Our 2025 VOCES de la Comunidad Conference aims to raise awareness on the impacts of domestic violence\, sexual assault\, and sex trafficking within Latine communities by centering the voices of survivors and advocates as they share their experiences navigating system in search of support\, resources\, justice\, and healing. \nWe will also be joined by Latinx Parenting founder Leslie Priscilla\, who will facilitate “Ending Chancla Culture: Decolonizing our Families and Raising Future Ancestors”. \n\nEvent Schedule\n8:30am: Registration Check-in/Cafe con Pan \n9:30am: Opening Ceremony – Blessing by Ollin Yolliztli Pdx \n9:45am: Welcome – EPHC Interim Exec. Dir. Brigitte Rodriguez \n10:00am: Keynote Speaker – UNICA Director Perla Estrada \n10:40am: Survivor Panel – Moderator: Viridiana Gutierrez Sotelo \n12:00pm: Lunch* and Awards Ceremony \n1:00pm: Latinx Parenting: Ending Chancla Culture – Training by Latinx Parenting Leslie Pricilla \n3:10pm: Advocate Panel – Moderator: Viridiana Gutierrez Sotelo \n4:30pm: Closing Ceremony – Huehca Omeyocan Aztec Dance & Music \n5pm – 6pm: Networking Event \n*Meals and refreshments will be provided from an array of our local Latine vendors. \n  \nVolunteers\nWe’re looking for Volunteers! If you are interested in volunteering for this event\, please email us at volunteers@elprograma.org or complete a Volunteer Interest Form \n  \nTable at our Event\nWe invite local organizations\, business\, and government entities to join us with an informational booth at the event to share you products/services with our communities. If interested in tabling\, please contact our Development team at communications@elprograma.org or (503) 669-8350.
URL:https://elprograma.org/event/2025-voces-conference/
LOCATION:Glenn Otto Park\, 1102 E Historic Columbia River Hwy\, Troutdale\, 97060\, United States
CATEGORIES:Conference
ATTACH;FMTTYPE=image/png:https://elprograma.org/wp-content/uploads/2025/01/VOCES_website-header_ENG.png
END:VEVENT
BEGIN:VEVENT
DTSTART;TZID=America/Los_Angeles:20250401T160000
DTEND;TZID=America/Los_Angeles:20250401T170000
DTSTAMP:20260425T164754
CREATED:20250113T203241Z
LAST-MODIFIED:20250620T194356Z
UID:10000310-1743523200-1743526800@elprograma.org
SUMMARY:East Gresham Food Pantry
DESCRIPTION:Stop by East Gresham Elementary School to access for free\, fresh\, and healthy food for your family every Tuesday of the month (Summer 2025).\nShopping at the pantry is easy:\n• Please bring your own bags\n• No identification or income verification materials required\n• Anyone is welcome to shop for their family \nQuestions? Call or text Kaleb Meiers at (503) 405-5100 \nProudly Supported by:
URL:https://elprograma.org/event/east-gresham-food-pantry-2/2025-04-01/
LOCATION:East Gresham Elementary School\, 900 SE 5th St\, Gresham\, OR\, 97080\, United States
CATEGORIES:Community Events
ATTACH;FMTTYPE=image/png:https://elprograma.org/wp-content/uploads/2024/07/E-Gresham-ENG.png
END:VEVENT
BEGIN:VEVENT
DTSTART;TZID=America/Los_Angeles:20250403T160000
DTEND;TZID=America/Los_Angeles:20250403T173000
DTSTAMP:20260425T164754
CREATED:20250113T201957Z
LAST-MODIFIED:20250113T201958Z
UID:10000291-1743696000-1743701400@elprograma.org
SUMMARY:Wilkes Elementary Free Food Market
DESCRIPTION:Visit our Free Food Market at Wilkes Elementary School on the 1st Thursday of each month to access free\, fresh\, and healthy fruits and vegetables and some pantry staples for you and your family. \nShopping at our Free Food Market is simple:\n• This food is free and everyone is welcome\n• No ID\, name\, or address needed\n• Please bring bags or boxes \nQuestions? Call or text Giovanni Barranco at (971) 220-0930 or gbarranco@elprograma.org \nProudly Supported by:
URL:https://elprograma.org/event/wilkes-elementary-free-food-market-4/
LOCATION:Wilkes Elementary School\, 17020 NE Wilkes Rd\, Portland\, OR\, 97230\, United States
CATEGORIES:Community Events
ATTACH;FMTTYPE=image/png:https://elprograma.org/wp-content/uploads/2024/07/Wilkes-ENG.png
END:VEVENT
END:VCALENDAR